BEGIN:VCALENDAR
VERSION:2.0
PRODID:-//Tantric Synergy - ECPv6.15.20//NONSGML v1.0//EN
CALSCALE:GREGORIAN
METHOD:PUBLISH
X-WR-CALNAME:Tantric Synergy
X-ORIGINAL-URL:https://tantricsynergy.com.au
X-WR-CALDESC:Events for Tantric Synergy
REFRESH-INTERVAL;VALUE=DURATION:PT1H
X-Robots-Tag:noindex
X-PUBLISHED-TTL:PT1H
BEGIN:VTIMEZONE
TZID:Australia/Melbourne
BEGIN:STANDARD
TZOFFSETFROM:+1100
TZOFFSETTO:+1000
TZNAME:AEST
DTSTART:20210403T160000
END:STANDARD
BEGIN:DAYLIGHT
TZOFFSETFROM:+1000
TZOFFSETTO:+1100
TZNAME:AEDT
DTSTART:20211002T160000
END:DAYLIGHT
BEGIN:STANDARD
TZOFFSETFROM:+1100
TZOFFSETTO:+1000
TZNAME:AEST
DTSTART:20220402T160000
END:STANDARD
BEGIN:DAYLIGHT
TZOFFSETFROM:+1000
TZOFFSETTO:+1100
TZNAME:AEDT
DTSTART:20221001T160000
END:DAYLIGHT
BEGIN:STANDARD
TZOFFSETFROM:+1100
TZOFFSETTO:+1000
TZNAME:AEST
DTSTART:20230401T160000
END:STANDARD
BEGIN:DAYLIGHT
TZOFFSETFROM:+1000
TZOFFSETTO:+1100
TZNAME:AEDT
DTSTART:20230930T160000
END:DAYLIGHT
END:VTIMEZONE
BEGIN:VEVENT
DTSTART;VALUE=DATE:20220722
DTEND;VALUE=DATE:20220725
DTSTAMP:20260424T080935
CREATED:20220428T055317Z
LAST-MODIFIED:20220511T000622Z
UID:3332-1658448000-1658707199@tantricsynergy.com.au
SUMMARY:Body Whisperer 3 Day Experience - Northern NSW
DESCRIPTION:A rich immersion which supports you in shedding blocks and outmoded patterns to transform your reality – into potency\, freedom and bounteous possibilities. \n“The Body Whisperer 3 Day Live In Experience introduces Tantra practices for releasing physical\, emotional and energetic restrictions in the body\, re-training your nervous system to be calm and in pleasure at the same time. You are shifting old habits\, rewiring your neurology and opening new pathways for pleasure and open-hearted awareness through this different embodiment of sexual energy.”\nWhen we were small we created patterns for survival that now as adults\, no longer serve us as we seek a richer\, more meaningful life. These old stories limit our ability to create in the world\, limit our intimacy in relating\, and limit our pleasure. We are orgasmic beings\, and it was a learned response to shut that ecstatic current down. Here\, we drop the constriction and the self talk that shuts down this vital essence within us. Here we claim back our power and our beauty. We drop the stories\, and reset our reality for more love\, power and freedom.\n–\nCOMING HOME TO SELF\nWhether you enrol to deepen your Tantric relating or for personal transformation\, the experience highlights the ultimate wisdom of the body. This is about coming home to yourself\, and allowing the pleasure and power that wants to express through you.\nYou’ll be guided through tools for bringing through your latent gifts\, and clearing the need for looping old patterns\, in group processes and solo practices. Guided visualisations\, demonstrations and practicums support your next step. There’ll also be time for integration\, reflections\, feedback and sharing circles.\n–\nHIGHLIGHTS:\n– Creating a field of safety in sacred space\n– Working with the elements and directions\, following ancient traditions for healing rituals\n– Connective massage and conscious touch with clear consent and agreements\n– Opening to energetic orgasmic flow\n– Honing emotional intelligence skills\n– Staying in ease\, aware and present in the body\n– Healing lineage patterning\n– Visualisation for manifesting your fullest life\n– Processes for clearing old relationship habits and emotional blocks\n– Shifting stuck belief systems\n– Shamanic guidance for transformational emergence\n“This is an experience of expansion rather than disconnection\, of opening rather than shutting down\, of empowerment rather than fear and contraction.”\n–\n\n\n \n–\n“This is an experience of expansion rather than disconnection\, of opening rather than shutting down\, of empowerment rather than fear and contraction. Are you ready to break down the blocks that have been holding you back? Are you done with all the reasons why not?” \n__________________________________________________________ \n\nWHO IS IT FOR?\nPeople of any gender\, orientation and relationship status.\nSingles as well as couples find the experience life changing and enriching\, taking their capacity for relating beyond where they’ve gone before. Your boundaries and choices are always respected\, and you choose your own pace for this journey.\n__________________________________________________________\nDATES & TIMES:\nFriday 22nd July – Sunday 24th 2022.\nFriday 11th: 6pm to 10pm\nSaturday 12th: 10am to 10pm\nSunday 13th: 10am to 4pm\n__________________________________________________________\nEVENT LOCATION:\nSine Cera Rainforest Retreat Centre. Cougal\, Northern NSW.\n2 hrs drive from Byron Bay\n2.5 hrs drive from Gold Coast\n3.5 drive from Brisbane\n__________________________________________________________\nCOST:\nPrice: $895 AUS per person\nInclusive of all course materials. Delicious and decadent\, chef prepared meals from Dinner on Friday Night to lunch on Sunday. Twin share accommodation.\n__________________________________________________________\nHOW DO I REGISTER?\n1) Fill Out the application form\nAPPLICATION FORM LINK: https://docs.google.com/…/1FAIpQLSdS…/viewform\n2) Pay your $300 Deposit to the bank details below.\nDEPOSITS:\nSecure your place with a $300 non refundable deposit and then the balance of the full course fee at your convenience\, due latest on or before June\, 18th 2022.\n__________________________________________________________\nREFUND POLICY:\nThe $300 deposit is strictly non refundable or transferable. Balance of fees can be transferred to any future Body Whisperer Training or Tantric Synergy Training\, Event or Private Session facilitated by Stephanie Phillips.\nIf by chance this event is cancelled by us due to Covid NSW regulations\, you are assured that full refunds including your initial $300 deposit will be returned to you within 14 days of the event cancellation\, less a $50 administration fee and any bank fees incurred.\nAlternatively\, you may transfer your payment to a future Body Whisperer Training or Tantric Synergy Training\, Event or Private Session facilitated by Stephanie Phillips.\n__________________________________________________________\nBANK DETAILS:\nPlease make all payments to the following account:\nBank: Westpac\nAccount Name: Stephanie Phillips\nAccount No: 874694\nBSB: 733 039\nPlease note your full name on your deposits including which training you are booking into eg: John Smith 3 Day or John Smith 7 Day\n__________________________________________________________\nABOUT STEPHANIE:\nStephanie has over 30 years working in the field. She is a speaker\, writer and international facilitator\, initiating groups with Tantric and shamanic practices\, pattern reframing and the deep remembering of our innate wisdom. Faculty at ISTA (International School of Temple Arts). She draws on her extensive background in Dance\, Psychotherapy\, Yoga\, Reiki and the Healing Arts.\n__________________________________________________________\nWHAT OTHER PARTICIPANTS HAVE SAID:\n‘The Body Whisperer 3 Day training is a brilliant taste tester into exploring tantric bodywork\, healing and sexuality. The weekend was fun\, transformational and high quality. I have received many benefits for my personal life and gained new tools to support myself and others moving forward. Stephanie holds a loving\, powerful space and facilitates from a high frequency.” Participant\, January 2022.\n“A life changing event. It was my first time at this type of event & it was beyond my wildest expectations. The work around childhood timelines and generational patterns was paradigm shifting. Not to mention learning how to consciously relate to others in a fun\, nurturing and consensual way with an incredible group of people.”\nMatthew\, January 2022.\n“I came to this retreat full of fear\, fear of failure\, fear of letting loved ones down and dreaded returning to my world.\nI leave here full of joy\, love for existence and with my inner lion roaring with pride. Now I can’t wait to return home\, alive & with purpose and relish the thought of the joy I will bring into others lives.\nThank you so much Steph & Eve\, I’m full of life and love and have found the safety & wisdom in your teachings that I needed to find me again. Thank you.”\nDave\, January\, 2022.\n“What an immensely powerful weekend. Wasn’t sure what to expect at all\, I just felt the call of curiosity and listened into that. Ive struggled with numbness (emotional & physical) and like so many of us have been drastically impacted by the last few years of trauma.\nThese rituals have carried me to so many unexpected places\, deepening into pleasure and feeling the pain\, I’ve been carrying. I am grateful for the transformation and for the knowledge and skills to hold and protect my body as I widen the scope of exploring my sexuality. THANK YOU!”\nParticipant\, January 2022.\n“The space was incredibly well held. The container was set with thoughtful intention and facilitated a healthy & comfortable experience. It attracted amazing people and the intimacy & safety was well established.”\nParticipant January\, 2022.\n__________________________________________________________\n7 DAY BODY WHISPERER LIVE IN RETREAT\nThis 3 Day experience is an amazing taster to our 7 Day Live In Retreat being held in the Northern Rivers Rainforest\, October 8th to 14th 2022.\nFor details on the retreat please visit: https://fb.me/e/1PcJHJe5a\nAPPLICATION FORM LINK:\nhttps://docs.google.com/…/1FAIpQLSfU9VonFOus9q…/viewform\n\n\n\n\nFacilitator and Creatress of this work:\nStephanie Phillips \nYour Host and Organiser:\nEve Glimma\nPh: 0425 347 477\nEmail: eveglimma@gmail.com \nContact for any further details or queries.
URL:https://tantricsynergy.com.au/event/body-whisperer-3-day-experience-northern-nsw/
LOCATION:412-422 Main Creek Rd\, Cougal\, NSW\, Australia\, 412-422 Main Creek Rd\, Cougal\, NSW\, Australia
CATEGORIES:Course,Gathering,Retreat,Sessions and Workshops,Workshop
ATTACH;FMTTYPE=image/jpeg:https://www.tantricsynergy.com.au/wp-content/uploads/2022/04/BW-3Day-July-and-7Day-Oct-2022.jpg
ORGANIZER;CN="Eve Glimma":MAILTO:eveglimma@gmail.com
END:VEVENT
END:VCALENDAR