BEGIN:VCALENDAR
VERSION:2.0
PRODID:-//Tantric Synergy - ECPv6.15.20//NONSGML v1.0//EN
CALSCALE:GREGORIAN
METHOD:PUBLISH
X-ORIGINAL-URL:https://tantricsynergy.com.au
X-WR-CALDESC:Events for Tantric Synergy
REFRESH-INTERVAL;VALUE=DURATION:PT1H
X-Robots-Tag:noindex
X-PUBLISHED-TTL:PT1H
BEGIN:VTIMEZONE
TZID:Australia/Melbourne
BEGIN:STANDARD
TZOFFSETFROM:+1100
TZOFFSETTO:+1000
TZNAME:AEST
DTSTART:20240406T160000
END:STANDARD
BEGIN:DAYLIGHT
TZOFFSETFROM:+1000
TZOFFSETTO:+1100
TZNAME:AEDT
DTSTART:20241005T160000
END:DAYLIGHT
BEGIN:STANDARD
TZOFFSETFROM:+1100
TZOFFSETTO:+1000
TZNAME:AEST
DTSTART:20250405T160000
END:STANDARD
BEGIN:DAYLIGHT
TZOFFSETFROM:+1000
TZOFFSETTO:+1100
TZNAME:AEDT
DTSTART:20251004T160000
END:DAYLIGHT
BEGIN:STANDARD
TZOFFSETFROM:+1100
TZOFFSETTO:+1000
TZNAME:AEST
DTSTART:20260404T160000
END:STANDARD
BEGIN:DAYLIGHT
TZOFFSETFROM:+1000
TZOFFSETTO:+1100
TZNAME:AEDT
DTSTART:20261003T160000
END:DAYLIGHT
END:VTIMEZONE
BEGIN:VEVENT
DTSTART;VALUE=DATE:20250617
DTEND;VALUE=DATE:20250624
DTSTAMP:20260420T062459
CREATED:20240926T081844Z
LAST-MODIFIED:20240926T081844Z
UID:4169-1750118400-1750723199@tantricsynergy.com.au
SUMMARY:ISTA Level 1 - UK
DESCRIPTION:What does the SSSEx Intensive Involve? \nThis Training focuses on clearing the physical and emotional body of shame\, guilt and fear related to sexuality and authenticity. The deeper transformation comes from reconnecting to your personal power\, exploring sexuality is a fast path to encountering our own power challenges and gifts. \nThis is done through multiple pathways using the best of the ancient temple arts including Tantra\, Taoist and Shamanic traditions and adding to this more modern day NLP\,  bioenergetics\, guided visualization\, emotional release\, Kundalini activation\, energy tracking\, conscious touch and consent skills. The list above are just a few of the practices we use to dive deep into the inner realms. The inner masculine and inner feminine archetypes are explored because when they are fully integrated a door opens to a deeper knowing of the Self as whole and complete. \nA note on Masculine & Feminine \nPlease don’t perceive that our use of the terms masculine and feminine is an indicator that ISTA operates from place of duality and gender separation. We do not\, far from it we realise that we are all masculine and feminine regardless of our physical form. We use this terminology as it is an effective model for understanding the different energies or qualities that each if us is made up of. They do not translate to men and women or male and female. \nUnique to ISTA  \nThree skilled Temple Arts Faculty all international teachers in their own right will share\, inspire\, guide and support you to bring light to the shadows where our power awaits to be reclaimed. You will receive information\, guidance and lots of experiential practice around self love\, boundaries and consent\, emotional release\, voice dialogue\, neurological reprogramming\, Orgasmic Yoga\, learning to work with shamanic energy\, owning one’s desires and the ability to manifest\, accessing and speaking from your contra-sexual self (i.e gender opposite)\, conscious communication\, Transformational Shamanic Breathwork\, ancient temple arts rituals of healing/initiation and a powerful sexual clearing and activation processes. \nSupportive Group Process \nThis event unfolds within a powerful group process based on safety\, trust\, unconditional love\, intimacy and acceptance of what is arising. By the end of this event\, you will feel more in touch with your body\, more aliveness and presence\, more aware of your patterns and have some skills as to how to change them\, more awareness of your emotions and how to hold them\, lighter and perhaps more relaxed. You will be more in touch with effortless flow of life\, no matter what it looks like. \nISTA Level 1 is a container that will allow\, invite and offer you \n\nWhatever you life situation is to stop\, feel and take a look at yourself in a whole new way. This is an opportunity to wake up to your life.\nIt will invite you to take risks\, meet and explore your edges in a safe container.\nProvide you with essential life skills we all should have received as teenagers.\nProvide a space for you to see\, show and live from the you that lies beneath the mask. You will see more clearly where you are operating from ego\, belief patterns of others and society.\nIt will show you where your inner masculine and inner feminine are immature\, unhealthy or where they are at war and it will guide you to bring them back towards union\, love and integration. This is huge!\nIt will invite you to reconnect to\, master and to learn to love your emotional body and heart power\, as well as your physical self.\nIt will show you your glorious energy being and share skills as to how to dance with this energy body alongside your physical body.\nIt will encourage you and show you how to seek wisdom from your body and heart\, instead of your mind.\nProvide powerful opportunities for healing core wounds.\nRemember how to love yourself\, to feel the healing power of pleasure and it will offer you ways to expand your sexuality and orgasmic potential.\nAllow you to see and deeply understand that sexuality and spirituality are one.\nOffer you opportunities for deep healing around lost love\, sexuality\, grief\, self love and mother and father wounds.\nTo shine a light on places where culture\, religion and society has kept us from expressing who we really are.\nTake part in powerful rituals that can bring deep healing and power reclamation.\nIt will ask you to consider what your life might look like\, if it was not controlled by societies expectations\, ego\, family\, fear\, shame and guilt?\nIt will plead with you to know what it truly is to be a sovereign being.\n\nWho attends the Intensive? \nSome people take this training for their own personal evolution\, to gain a deeper self-connection and to enrich their relationships and empower their lives. Others are interested in exploring how it will add to their own professional life\, whatever that may be\, and some are interested in the professions of Sacred Sexual Practitioner or Sexuality Educator. \nAttendees include those from the various spiritual paths and the sexual paths of celibacy\, monogamy\, and polyamory. \nCouples\, individuals and relationship groups of any formation are welcome\, as are individuals of any sexual orientation and gender identity. The greater mix of prior experiences the richer the training! If it is your truth\, it is possible to complete the entire training/experience without touching another person. \nI ask you this question: Are you ready to jump off the edge? \nWe are so often at the precipice of something we have wanted to do\, embody or achieve….and we remain at the proverbial cafe\, sipping tea\, peering over the edge looking at the unknown water below\, searching with our mind for the answers. Of course\, the mind has no real answers. And so we are afraid. We may let our feet leave the ground\, but more often than not we return to our comfort zone…because we are too afraid to feel the pain…really feel it all the way…and enter the gateway of new possibilities. What if you could jump when your being\, your heart\, your spirit knew it was time to change? In this training you will come to a point where you can choose\, completely and resolutely\, without reservation\, to fling yourself off the rock…..and transform your life. What’s your edge? Are you ready to jump? What’s getting in your way? To find out….come and do this training. It will take you to your edge\, expand you and change your life forever. \nPRICING: \n\n\n\n\nRegular\n1775 GBP\n\n\nRepeater\n1550 GBP\n\n\nEarly bird\n1675 GBP\n\n\n\n\nOrganiser: Dolores Antic\nEmail: infoukista@gmail.com\nPhone: +385 91 539 1736
URL:https://tantricsynergy.com.au/event/ista-level-1-uk/
LOCATION:UK\, United Kingdom
CATEGORIES:Course,Retreat,Sessions and Workshops,Workshop
ATTACH;FMTTYPE=image/webp:https://www.tantricsynergy.com.au/wp-content/uploads/2024/09/ISTAUK2025.webp
END:VEVENT
END:VCALENDAR