BEGIN:VCALENDAR
VERSION:2.0
PRODID:-//Tantric Synergy - ECPv6.15.20//NONSGML v1.0//EN
CALSCALE:GREGORIAN
METHOD:PUBLISH
X-ORIGINAL-URL:https://tantricsynergy.com.au
X-WR-CALDESC:Events for Tantric Synergy
REFRESH-INTERVAL;VALUE=DURATION:PT1H
X-Robots-Tag:noindex
X-PUBLISHED-TTL:PT1H
BEGIN:VTIMEZONE
TZID:Australia/Melbourne
BEGIN:STANDARD
TZOFFSETFROM:+1100
TZOFFSETTO:+1000
TZNAME:AEST
DTSTART:20240406T160000
END:STANDARD
BEGIN:DAYLIGHT
TZOFFSETFROM:+1000
TZOFFSETTO:+1100
TZNAME:AEDT
DTSTART:20241005T160000
END:DAYLIGHT
BEGIN:STANDARD
TZOFFSETFROM:+1100
TZOFFSETTO:+1000
TZNAME:AEST
DTSTART:20250405T160000
END:STANDARD
BEGIN:DAYLIGHT
TZOFFSETFROM:+1000
TZOFFSETTO:+1100
TZNAME:AEDT
DTSTART:20251004T160000
END:DAYLIGHT
BEGIN:STANDARD
TZOFFSETFROM:+1100
TZOFFSETTO:+1000
TZNAME:AEST
DTSTART:20260404T160000
END:STANDARD
BEGIN:DAYLIGHT
TZOFFSETFROM:+1000
TZOFFSETTO:+1100
TZNAME:AEDT
DTSTART:20261003T160000
END:DAYLIGHT
END:VTIMEZONE
BEGIN:VEVENT
DTSTART;VALUE=DATE:20250221
DTEND;VALUE=DATE:20250225
DTSTAMP:20260420T233250
CREATED:20241213T021124Z
LAST-MODIFIED:20241213T063118Z
UID:4198-1740096000-1740441599@tantricsynergy.com.au
SUMMARY:4 Day Priestess Training - Melbourne
DESCRIPTION:Learn how to assist men to reconnect with their sexual energy in a healthy way\nEducating in the area of conscious sexuality is a rapidly expanding field. There’s been a growing awareness over the last few years\, as people search for more authentic ways to connect\, to express\, to heal and to grow. Assisting this sexual awakening is incredibly important work. It can facilitate enormous growth for those seeking this experience\, and can be deeply humbling as a life path. \nA Tantric Synergy Priestess assists men through the steps for reconnecting with their sexual energy in a healthy way\, allowing more pleasure and intimacy in their relating.\nTantric Synergy offers a unique practitioner training for those wanting to start this work\, enhance an existing practice\, or to enrich their personal life. Although it’s focussed on assisting men\, this course is a deeply enriching and healing space for women to come together to remember their priestess archetype\, create their own medicine as they learn this sacred art\, conjure their own elixir and share in this together.  \n\nPeople are wanting old habits to change:\nOur mainstream programming around sexuality interferes with our ability to connect\, and we have been conditioned to operate predominantly in our heads. This shuts down our body wisdom\, constricting the orgasmic flow through our bodies. \nTantric Synergy has\, over the years\, become a highly sought-after process. Guiding this journey requires knowledge\, experience\, skill\, and empathy. What we need most in the area of sexuality educators and practitioners is an impeccable level of delivery that people can trust. Those considering Tantra to explore their sexual expression require a practitioner who embodies the above qualities. \nThey are reliant on the integrity and clarity of this guidance and these teachings. These are the non-negotiable\, basic ingredients. This is what the Tantric Synergy Training is founded upon. Stephanie has developed this method over 30 years and she now shares it generously with others. \n \nOverview of the Priestess Training\n4 Days non-residential training in Warburton\, Victoria\nFriday\, February 21st – Monday\, February 24th 2025 inclusive \nOn completion of the 4-day training: \n\nGraduates will have the capacity to skilfully hold transformational sessions for men\nSelected graduates will be invited to hold sessions for Tantric Synergy\n\nThis Priestess Training is a step by step sequence\, teaching men the skills to direct their sexual energy instead of being at its mercy Men often want to lose the performance anxiety around sex\, control ejaculation\, or want answers for erection difficulty. In the Tantric Synergy Training\, you will learn how to address these issues with a specific session format. \nYou will learn how to facilitate some simple practices\, guiding them to be present and relaxed in their bodies. This is a multi-faceted journey. On one hand it is packed with info to learn and absorb\, with opportunities to practice with selected male-bodied receivers\, and on a deeper level it connects the participants back to their Priestess archetype\, through deep sensing\, remembering and bonding through the sisterhood. \nThis is shamanic container where you meet this archetype in you and bring these gifts into being. There will be opportunity during breaks to take time to integrate on the land – by the permanent spring\, under a mossy tree or walking the maze\, to journal and reflect. \nSome of the issues you will learn to address: \n\n\n\nEjaculation choice\nVirility issues (ED)\nBeing sexual without external stimulus\, such as porn or fantasy\nHow to be a better lover\nGetting the spark back in a relationship\nLearning full body orgasm\nLetting go of intimacy fears\nOpening to a more conscious awareness of self\n\n\n\nSession Practices You Will Learn: \nThis Priestess Training is not an “erotic” session for stimulation’s sake. The process is about allowing more pleasure through the body and changing the habit of urgent release. The skills you teach men will invite a re-frame\, to change old habits\, and experience more pleasure. \n\n\n\n\n\nTantric principles in relation to sex and pleasure\nLearn the session format\nTeach the 3 keys to becoming a multi-orgasmic man\nBoundaries in a session\nFacilitate an awareness of more subtle sensations\nMove sexual energy to retrain sexual response\nRole play\, practice and case studies\n\n\n\n\n\nDuring the course we will include land journeys and night walks. The river is close-by for swimming\, and the sauna will be available onsite. Beautifully nourishing lunches will be served each day. \nAbout Stephanie Phillips\nStephanie is a wild and beautiful soul at the forefront of the international conscious sexuality movement. She is a powerful guide\, initiated in the ancient codes of Tantra and shamanism\, and is dedicated to un-ravelling belief systems that keep us from coming home to our body wisdom.  \nWith warmth\, clarity\, irreverent humour and keen insights\, she helps individuals and groups remember their innate wisdom and reclaim their potent sense of self. Her extensive background in Psychotherapy\, Yoga\, Reiki\, Dance\, Bodywork modalities and the Healing Arts\, has supported thousands of people in their journey into the self\, of self-love and opening to pleasure.  \nHer work is a unique opportunity to connect deeper and more authentically with yourself and the world\, and to experience pleasure with more subtle nuance.  \nJoin her for one of her signature trainings at her mystical Yarra Valley retreat\, where you can experience the ecstatic current flowing through your body and awaken your Priestess self in a shamanic container of safety and support. \n  \nDates: February 21st – 24th 2025\nFriday – February 21st\, 10am – 6pm\nSaturday – February 22nd\, 10am – 6pm\nSunday – February 23rd\, 10am – 6pm\nMonday – February 24th 10am – 6pm \nLocation:\nThe location for this Priestess Training is near Warburton\, Victoria.\nLocal accommodation can be found easily around Warburton (eg. Alpine Hotel\, Oscar’s on the Yarra or Millwater Retreat) \nPlaces in the Training:\nThere are strictly limited places available in this Priestess Training\, and this is the only training available this year.\nPriority will be given to those who have already been working with self-awareness and embodiment practices in transformational fields.\nWe’ll respond to all submissions\, and successful applicants will receive a Welcome Kit with further details. \nTo Apply:\nPlease complete the following form: Priestess Training Application Form\nIn the form\, you will be asked to include: \n\n\n\n\n\nName\nPhone number\nAge\nReason for attending the training\nCurrent work / study\nPlace of residence\nPrevious experience if any\, in Tantra / sexuality / energy / healing courses\n\n\n\n\n\n\n\n\nInvestment: $2950.00\nAll fees are payable in full prior to the training. Monies are transferable but not refundable.\nFull details will be included in the Welcome Kit to successful applicants. \nIt is always a privilege to introduce people to these profound and beautiful discoveries. We look forward to receiving your submission. \nApply here >>
URL:https://tantricsynergy.com.au/event/4-day-priestess-training-melbourne/
LOCATION:Warburton\, Victoria\, Australia
CATEGORIES:Course
ATTACH;FMTTYPE=image/jpeg:https://www.tantricsynergy.com.au/wp-content/uploads/2024/12/TS-PT-2025.jpg
END:VEVENT
END:VCALENDAR