BEGIN:VCALENDAR
VERSION:2.0
PRODID:-//Tantric Synergy - ECPv6.15.20//NONSGML v1.0//EN
CALSCALE:GREGORIAN
METHOD:PUBLISH
X-WR-CALNAME:Tantric Synergy
X-ORIGINAL-URL:https://tantricsynergy.com.au
X-WR-CALDESC:Events for Tantric Synergy
REFRESH-INTERVAL;VALUE=DURATION:PT1H
X-Robots-Tag:noindex
X-PUBLISHED-TTL:PT1H
BEGIN:VTIMEZONE
TZID:Europe/Berlin
BEGIN:DAYLIGHT
TZOFFSETFROM:+0100
TZOFFSETTO:+0200
TZNAME:CEST
DTSTART:20190331T010000
END:DAYLIGHT
BEGIN:STANDARD
TZOFFSETFROM:+0200
TZOFFSETTO:+0100
TZNAME:CET
DTSTART:20191027T010000
END:STANDARD
BEGIN:DAYLIGHT
TZOFFSETFROM:+0100
TZOFFSETTO:+0200
TZNAME:CEST
DTSTART:20200329T010000
END:DAYLIGHT
BEGIN:STANDARD
TZOFFSETFROM:+0200
TZOFFSETTO:+0100
TZNAME:CET
DTSTART:20201025T010000
END:STANDARD
BEGIN:DAYLIGHT
TZOFFSETFROM:+0100
TZOFFSETTO:+0200
TZNAME:CEST
DTSTART:20210328T010000
END:DAYLIGHT
BEGIN:STANDARD
TZOFFSETFROM:+0200
TZOFFSETTO:+0100
TZNAME:CET
DTSTART:20211031T010000
END:STANDARD
END:VTIMEZONE
BEGIN:VEVENT
DTSTART;VALUE=DATE:20200723
DTEND;VALUE=DATE:20200727
DTSTAMP:20260425T223913
CREATED:20200622T012134Z
LAST-MODIFIED:20200628T010436Z
UID:2875-1595462400-1595807999@tantricsynergy.com.au
SUMMARY:ISTA Wild Love - Online Festival
DESCRIPTION:The ISTA Festival offers us five days and nights of inspiring and life-changing workshops\, talks\, and rituals led by an incredible team of top facilitators from ISTA\, the International School of Temple Arts and the Wild Love Movement. \n\nFive days: 24/7 journey from July 23rd – 26th of deepening self-love\, power\, and ease.\nParticipate in life-changing and enhancing workshops\, talks\, ceremonies\, rituals\, and performances from the comfort of your home\nDozens of the best keynote teachers from the sexual shamanic field.\n30 days of access to the recorded workshops.\nBe part of the vibrant “ISTA online festivals community” Facebook group\, share and connect with the global tribe.\n\nThis festival is open for anyone and everyone who is craving depth\, transformation and a sense of ease in these chaotic times. \n*You do not need to have completed any previous ISTA events or trainings to partake in this festival experience. All are welcome beginners and experienced alike!* \nCome receive teachings ranging from Shamanism to Tantra and learn specific tools and techniques to support you in this time of global pause and beyond. Our rich program includes Experiential workshops\, Lectures\, Sacred Rituals\, Conscious Dance\, Live Music\, and Art Performances as we raise our spirits\, empower our sexuality and expand our consciousness as a community into a living breathing expression of Love \nTICKETS ONSALE NOW! \nWHAT IS AN ISTA FESTIVAL? \nThis Festival is all about you being you. It is a journey within. A journey home. What is in the way of loving yourself fully? Of allowing more love into your life? Abundance? Of allowing your voice to be heard and your emotions felt? This festival is not about learning something new\, but remembering who you are and doing it together with others from around the world seeking to do the same! Your community. Your tribe. In a time where many of us are feeling isolated\, imagine a gathering of souls who have the intention and purpose to step into a world of more love\, power\, and ease. \nThis gathering may be much more than just a festival\, it may be a new beginning as you awaken to the possibility that we can live in our ease in this unique moment in time and beyond. Bring your curiosity\, your desire\, your fear\, your vulnerability\, your courage\, your questions\, your doubts\, your hopes & your dreams. All of you is welcome here! You get to go at your own pace participating in as much as you wish and taking space when you need it. There are facilitators\, healers and allies to support you on this journey. You choose your own adventure at the ISTA Festival. \nMay it take you somewhere more beautiful than you imagined possible! \nWild Love is a global movement that celebrates the shameless emergence of a culture that embodies love and freedom. The world soul is moving\, and we appear to be in the middle of a significant change in civilisation. Wild love expresses a ‘third way’ beyond the duality of status quo control and/or revolution. It stands for the inherent freedom of the human spirit and the universal nature of love. It is a movement made up of many individual acts of wild love that synergise together to make visible the powerful wave that is sweeping the world. \nBOOK TICKETS HERE!
URL:https://tantricsynergy.com.au/event/ista-wild-love-online-festival/
LOCATION:Online
CATEGORIES:Festival
ATTACH;FMTTYPE=image/jpeg:https://www.tantricsynergy.com.au/wp-content/uploads/2020/06/Wildlove3nodate.jpg
END:VEVENT
END:VCALENDAR