BEGIN:VCALENDAR
VERSION:2.0
PRODID:-//Tantric Synergy - ECPv6.15.20//NONSGML v1.0//EN
CALSCALE:GREGORIAN
METHOD:PUBLISH
X-ORIGINAL-URL:https://tantricsynergy.com.au
X-WR-CALDESC:Events for Tantric Synergy
REFRESH-INTERVAL;VALUE=DURATION:PT1H
X-Robots-Tag:noindex
X-PUBLISHED-TTL:PT1H
BEGIN:VTIMEZONE
TZID:Australia/Melbourne
BEGIN:STANDARD
TZOFFSETFROM:+1100
TZOFFSETTO:+1000
TZNAME:AEST
DTSTART:20190406T160000
END:STANDARD
BEGIN:DAYLIGHT
TZOFFSETFROM:+1000
TZOFFSETTO:+1100
TZNAME:AEDT
DTSTART:20191005T160000
END:DAYLIGHT
BEGIN:STANDARD
TZOFFSETFROM:+1100
TZOFFSETTO:+1000
TZNAME:AEST
DTSTART:20200404T160000
END:STANDARD
BEGIN:DAYLIGHT
TZOFFSETFROM:+1000
TZOFFSETTO:+1100
TZNAME:AEDT
DTSTART:20201003T160000
END:DAYLIGHT
BEGIN:STANDARD
TZOFFSETFROM:+1100
TZOFFSETTO:+1000
TZNAME:AEST
DTSTART:20210403T160000
END:STANDARD
BEGIN:DAYLIGHT
TZOFFSETFROM:+1000
TZOFFSETTO:+1100
TZNAME:AEDT
DTSTART:20211002T160000
END:DAYLIGHT
END:VTIMEZONE
BEGIN:VEVENT
DTSTART;TZID=Australia/Melbourne:20200904T190000
DTEND;TZID=Australia/Melbourne:20200904T210000
DTSTAMP:20260425T205146
CREATED:20200810T045606Z
LAST-MODIFIED:20200904T015402Z
UID:2933-1599246000-1599253200@tantricsynergy.com.au
SUMMARY:Introduction to Tantra - Online (AEDT or UTC +10 hours)
DESCRIPTION:For those curious about Tantra\, and for people wanting to awaken more consciousness in their sexual lives. \nLearn Tantric fundamentals and practices from home. This is a group workshop via Zoom. \nSeptember 4th: 7pm – 9pm (AEDT) \nWhile our world is changing\, and we adjust to our new circumstances\, you can take this time to learn Tantra\, and to connect to the parts of you that have been shut down\, numb\, or unexpressed. Here’s where you can follow through with this enquiry\, this way of connecting\, this expansive experience.  \nThis introduction to Tantra explores healthy relating\, and how Tantric ideals can be adapted for more nourishing connections.\nLearn how to move sexual energy through your body for more open-hearted pleasure and to create deeper\, more fulfilling pleasure experiences.\nTake away the simple tools that allow more ease and orgasmic energy in your body\, creating self-awareness and deeper intimacy.\nThis is for every body\, and you’re welcome to attend solo\, as a couple\, or with your household. \nThe Secrets of Tantra:\nDiscover the secrets of Tantra\, and the sacred practices that turn sex into ecstatic bliss. Take home the simple tools that open more ease and orgasmic energy in your body\, creating more pleasure\, self-awareness and deeper intimacy. \nFind out:\n· How sexuality and spirituality are connected\n· The limitations of western conditioning\n· How conscious sexuality can liberate us\n· Freedom from results driven sex\n· Different states of bliss\n· Exercises to move sexual energy for ejaculation choice and increased pleasure\n· Lovemaking skills to take home \nTantra creates the space for genuine heart-felt openness\, and takes away anxiety and the pressure to perform. Instead of going for a habitual goal and release\, there’s the possibility of staying relaxed and present. This creates safety and trust – the best ingredients for opening to aliveness\, juice and connection! \n“Imagine being able to heal through sexual energy. Imagine being able to move this energy through you. You’re running at a higher frequency. You’re able to feel more pleasure through your body. You attract into your life the people that align with this new reality of yours\, and a whole world of new possibilities.” \nStephanie from Tantric Synergy presents the ancient teachings of Tantra in a practical style for the every day urban dweller\, in common sense language. She encourages the questions you always wanted to ask\, and in an easy manner\, shares simple techniques that will open your Tantra journey\, right from the start.\n(Fully clothed talk/discussion style workshop) \nWhat others say: \n“This changes everything!” That thought came to me at end of my first evening presentation with you. It has only been 3 months since then and this path is changing many things in my life.\nIt’s so powerful for me because it is experiential. It bypasses my mind and the change happens directly in my body. My mind eventually catches up.\nThis approach has such impact because I am a pro at rationalisation. This has been a real strength in many situations in my life. My career success is in large part due to my capacity for analytical thought. But that attribute is a weakness when I have tried to change my way of doing things because I come up against my own resistance and rationalise my way out of it. Using my old\, well-practiced approach\, I convince myself my behaviour doesn’t really need to be changed\, or that I have changed it and can move on.\nBecause the conscious practices I have learnt with you are so practical – it happens in my body – there’s not so much scope for my mind to opt out of or limit change. How far I’ve come even over the last few months!\nI am so grateful to you for offering what you do in the way you do. I am so thankful – and know that so many like me (and those who make me look positively open minded!) would benefit from what you do.\nI really appreciate your strength\, your expression of power\, your irreverence and humour\, and your caring. What a great role model! Erica \nThanks again for the course on Friday. It had a real impact on me and made me realise how disconnected I am from intimacy. If I feel out of control I “check out” and look down as an objective analyst far from my body. The workshop really helped me to notice this! Your teachings helped me experience and realise a new way\, a connected way. I’m done with my old mental state 🙂 so thank you very much indeed. I’m so unbelievably interested in tantra philosophy and the experiential journey involved. Andrew \nJoin us: \nYou’ll need to pre-book to attend. Tickets start at $30.00\nThe Zoom meeting ID will be provided to you on your registration. You can book for one\, two\, or a few of you in your lounge room. \nBuy Tickets »
URL:https://tantricsynergy.com.au/event/introduction-to-tantra-online-aest/
LOCATION:Online
CATEGORIES:Workshop
ATTACH;FMTTYPE=image/jpeg:https://www.tantricsynergy.com.au/wp-content/uploads/2020/08/Copy-of-t-a-n-t-r-i-c-s-y-n-e-r-g-y-3.jpg
END:VEVENT
END:VCALENDAR