BEGIN:VCALENDAR
VERSION:2.0
PRODID:-//Tantric Synergy - ECPv6.15.20//NONSGML v1.0//EN
CALSCALE:GREGORIAN
METHOD:PUBLISH
X-ORIGINAL-URL:https://tantricsynergy.com.au
X-WR-CALDESC:Events for Tantric Synergy
REFRESH-INTERVAL;VALUE=DURATION:PT1H
X-Robots-Tag:noindex
X-PUBLISHED-TTL:PT1H
BEGIN:VTIMEZONE
TZID:Australia/Melbourne
BEGIN:STANDARD
TZOFFSETFROM:+1100
TZOFFSETTO:+1000
TZNAME:AEST
DTSTART:20200404T160000
END:STANDARD
BEGIN:DAYLIGHT
TZOFFSETFROM:+1000
TZOFFSETTO:+1100
TZNAME:AEDT
DTSTART:20201003T160000
END:DAYLIGHT
BEGIN:STANDARD
TZOFFSETFROM:+1100
TZOFFSETTO:+1000
TZNAME:AEST
DTSTART:20210403T160000
END:STANDARD
BEGIN:DAYLIGHT
TZOFFSETFROM:+1000
TZOFFSETTO:+1100
TZNAME:AEDT
DTSTART:20211002T160000
END:DAYLIGHT
BEGIN:STANDARD
TZOFFSETFROM:+1100
TZOFFSETTO:+1000
TZNAME:AEST
DTSTART:20220402T160000
END:STANDARD
BEGIN:DAYLIGHT
TZOFFSETFROM:+1000
TZOFFSETTO:+1100
TZNAME:AEDT
DTSTART:20221001T160000
END:DAYLIGHT
END:VTIMEZONE
BEGIN:VEVENT
DTSTART;VALUE=DATE:20210105
DTEND;VALUE=DATE:20210127
DTSTAMP:20260425T095056
CREATED:20201102T053654Z
LAST-MODIFIED:20210113T003846Z
UID:3057-1609804800-1611705599@tantricsynergy.com.au
SUMMARY:Finding the Gold - 7 Modules Online
DESCRIPTION:A transformational group immersion over 7 online sessions\nA deep dive masterclass intensive\nA life-changer\nThis 7 module program is a framework for breaking free\, for accessing wisdom and heart-centred power\, and for creating your world anew. It’s a rich journey that supports you to shed blocks and outmoded patterns\, wake up a new world\, and transform your reality – into elegance\, potency\, and bounteous possibilities. \nThere is a shift coming in the New Year for sure. So much is in play. This is a time for seeding\, clearing and showing up fully in our truth\, no matter what. What wants to come through now? What needs to die? What gifts are to be born\, what gems discovered? \n“Finding the Gold” is here to support this emergence in you and I’m excited to be sharing it with you. \nThe Essence: \nThis is a program of 7 modules (2 per week) held through January. Each component is a self-contained ritual. These hand-picked processes are the most powerful pattern-shifters I know. They work. They change things. Hence\, this journey is for those who are tired of their own excuses\, and done with the same old dramas showing up in their lives. \nThe components each hold a sacred essence. These potent game-changers are imbued with elegance\, depth and grit. They’ve been well-worn staples in my tool-kit for 30 odd years in my transformational mentorships. Each is part of this immersion as a critical piece of the alchemical puzzle. One infused element follows the next\, unique in quality and yet together they facilitate an unfolding\, a birthing\, an emergence for your gifts\, for your being. \nIt’s going to be a unique quest for every participant. It’s not designed as a homogenised program. And it may be calling you. It may be just where you need to be at this time\, to reveal your unique path\, to claim your place at this time on the planet. \nHow do we work?\nEach module will be held on Zoom.\nWe will meet on the designated days from 6.30pm – 8.30pm (AEDT / UTC+11) for a check-in\, some background theory and then the guided transmission curated for that day. You’ll be in your own space and in your own process\, and yet supported in the group. \nI can’t attend all of the live sessions\, can I still join the course?\nEvery session will be guided in a live format. They will be recorded and made available to participants via our private facebook group to refer back to during the course. Live attendance to every module is strongly recommended for a connected and shared group experience\, and to increase your engagement with the program content. \nI’m self-isolating in a space where I don’t have privacy\, so will I be able to participate?\nThe processes can be modified to fit your situation. Try to find a quiet space where you can be as fully present as possible for the material\, but you can always come back to the recordings in the private Facebook group and complete the process when you have more privacy. \nThere will be no recordings available after the program is complete. \nCheck out the schedule beforehand to co-ordinate your personal time zone. \nTimezones:\nMelbourne\, Australia: 6.30pm\nLos Angeles\, USA: 11.30pm ( Previous day)\nDenpasar\, Bali: 3.30pm\nLondon\, UK: 7.30am\nTel Aviv\, Israel: 9.30am\nAuckland\, NZ: 8.30pm\nFor more Time Zones go to: https://www.worldtimebuddy.com/ \nWho is this Program for?\nIt’s for those who are ready:\nto break down the blocks that have been holding them back\nto manifest their new world\nto bring through their gold\nto create the vibrant life that they desire\nAre you done with all the reasons why not?\nIs it time to say ‘yes’ to the magic? \nWe are revolutionising your reality\, and you’re going to be covering a lot of ground\, in both your inner and outer worlds.\nYou are the creator of your own story. This is for you if you want to create something extraordinary! \nThis program guides you to:\n– Create your intention\, plant that seed in the realm beyond\, and call it in\n– Connect with your vision\, claim back what’s yours with conviction – own it!\n– Shed the blocks and distortions by clearing old patterning\n– Tap into your orgasmic flow\, through embodying\, expressing\, sharing and manifesting\n– Align with your soul’s blueprint and step forward with power and purpose \nThere will be resistances and there will be challenges\, and there will be the support for you to drop those things that no longer serve. This will be your creation\, your unique statement\, encoded with echoes from eons ago\, transmitted through and resonating with a vibration that’s clear and true. The ‘work’ is over. Now the symphony begins! \nHow we journey together: \nWe all meet twice-weekly for 7 modules via Zoom\n(Held on Tuesday and Friday evenings AEDT/UTC+11)\nOn each call we’ll gather to connect for a transmission\, a ritual. \nEach module is a self-contained chapter\, a piece in the puzzle\, a part of the whole.\nWe build the pieces together\, one step at a time:\n– Manifesting rituals\n– Mini vision-quests\n– Self pleasure and sex magic ceremony\n– Processes for clearing\n– Mystic code activation\n– Deep journey to claim back your treasure \nModule 1\nSee the vision: \nWhat can you imagine – however wild and wonderful?\nOur first task is to vision – and in that vision you recognise a familiar echo. You recall this voice\, you remember this map\, this carving\, this etching\, this symbol\nTapping into the imaginal realm. This is the stuff of other dimensions – existing in that other plane.\nCall them in now. \nModule 2\nClear the blocks:  \nRelease the constriction\, the pain and the patterning that shuts down the dream\, sabotages the awakening\, and keeps you small and trapped in the matrix.\nGoing gently now as you drop what no longer serves. \nModule 3\nHold the innocent child:  \nWe go back in time to rewrite the story\, to rewire the circuitry.\nHold the child in you\, safe and loved\, so that they’re free to be the innocent child\, free to play and be curious\, full of wonder\, free to be the magical child within you – your most precious teacher and sweetest delight. \nModule 4\nRemember the echoes: \nWaking up the codes which hold your calling. We journey deep into the inner chambers of your cave.\nThe lineage of your family is here to witness your return. The ancient ones support you – the keepers of the mysteries. They’ve been waiting. Invite them to journey with us as you light the flame as way-shower\, magician\, priest/ess\, temple pillar\, and conduit for awakening on the planet. \nModule 5\nReconnect with the body: \nTap into embodied wisdom. It never lies.\nRest back in your body\, and learn to open to all its gifts.\nRide the intensity\, acknowledge and express everything that it offers up\, from your base to your heart\, and express through your voice\, calling out your loss\, your rage\, and the sweet surrender to joy and orgasmic flow. \nModule 6\nBecome the master: \nNow step beyond safety. Reach into the unknown.\nOpen to the power of every aspect that you have held within.\nBreak free from the conditioning that is no longer useful. Tear up the contracts.\nDiscard the linear definition of restricted roles that inhibit your freedom.\nBreak open to exalt through your heart and your voice\, and claim your place through the actions you now take in the world. \nModule 7\nFind the magic: \nWhat holds you back\, argues for limitations? Shake off the residue\, the dross.\nYou have cast your seed\, and universal law starts its natural course as your vision starts to manifest. Watch for synchronicity\, and signs – the riddles and the clues. You are a magician\, in connection and aligned now with the more expansive fields of energy. Universal law creates a space for you as you step into the wheel of creative life. \nThroughout the Program we are in a group dynamic\, and you’ll be witness for each other. Each will have their own quest. Each journey is unique.\n*Attendance to every module is required for the safe container of our group\, and for everyone to benefit fully from this experience. \nAlso Includes:\n– “Sex with Your Light On” booklet\n–  Special rates for the “Body Whisperer Training 2021”\nWe will be meeting via Zoom\, and through a private Facebook group. You’ll be given access to the group once you’ve registered. \nAll the details: \nDates: January 5th – 26th 2021\nFrequency: Twice-weekly on Tuesday and Friday evenings AEDT/UTC+11 for 7 modules via Zoom \nModule 1: Tuesday\, January 5th\nModule 2: Friday\, January 8th\nModule 3: Tuesday\, January 12th\nModule 4: Friday\, January 15th\nModule 5: Tuesday\, January 19th\nModule 6: Friday\, January 22nd\nModule 7: Tuesday\, January 26th \nTime: 6.30pm – 8.30pm (AEDT /UTC +11)\nCost: From AUD$750\nTickets: https://www.trybooking.com/BMOBN \nThe Zoom meeting ID will be provided on your registration. You can book for one\, two\, or as a group at your place. \nAbout your Facilitator:\nStephanie is a global teacher at the forefront of the conscious sexuality movement. She initiates groups with Tantric and shamanic processes\, pattern reframing and the deep call of our inner wisdom. She works with practical basics\, guided journeys\, movement expression\, humanistic psychology\, transpersonal themes\, shadow work\, sacred sexuality and the healing arts. Here is a unique opportunity to work with the wisdom and expertise of a leader in the field who has supported thousands of people to transform their lives. \nWhat Others Say: \n“Stephanie is all kinds of Wow!” Suzie \n“Before working with Stephanie I was dealing with some issues I was embarrassed to talk about to anyone else and having difficulty in setting boundaries in relationships. I am so much more confident now and more comfortable in speaking to men in my life. I also have been using all the tools I was given which has really helped me to self regulate. I highly recommend anyone to work with Stephanie that wants to feel more ecstasy and love in there life. Thank you for helping me to become the best version of myself.” Alexandra \n“I see what your work can do for people\, and this is a very powerful force of good\, healthy and practical personal connections that will benefit our emotionally impoverished and out-of-kilter society. My journey with you has been safe\, well taught\, deeply engaging and personally challenging\, and I see how these workshops build bridges that cross the enormous divide of peoples’ lives. They need this way of congruence.”\nMark \n“This was an amazingly significant experience for me. I was completely unprepared for the power of this group experience and will be utilizing what I have learned every day for the rest of my life no doubt! Parts of this course were absolutely rewiring my history and how life works. Stephanie\, thank you for never taking “I can’t” for an answer\, and for so profoundly influencing my life and our lives.” Lewis \n“Yes\, yes\, yes! This work changes lives! Thank you for helping bring me back to life! Love” Carrie \n“I didn’t expect to gain so much from an online session. I could really feel the energy move\, and it was actually good to be in my own space\, where I’m comfortable. It felt intimate as well. Thank you for creating a connection that allowed me to find this part of myself again. It was do-able. I can open my world up from my lounge room. It felt good.” Nick \n“This is the second of your live events I’ve attended. I enjoyed both so much. Your workshops are so uplifting. They are also very informative\, helpful\, insightful and enlightening.  They touch me deeply as well. I appreciate the simplicity\, precision and clarity with which you share your wisdom.  Thank you so much for the work that you do which is so needed in the world today! Much love and deep gratitude.” Sarah \nBook here:\nBuy Tickets »\nMonies are transferable  but not refundable.
URL:https://tantricsynergy.com.au/event/finding-the-gold-7-modules-online/
LOCATION:Online
CATEGORIES:Course
ATTACH;FMTTYPE=image/jpeg:https://www.tantricsynergy.com.au/wp-content/uploads/2020/11/Finding-the-Gold.jpg
END:VEVENT
BEGIN:VEVENT
DTSTART;VALUE=DATE:20210128
DTEND;VALUE=DATE:20210201
DTSTAMP:20260425T095056
CREATED:20210105T042622Z
LAST-MODIFIED:20210124T094115Z
UID:3110-1611792000-1612137599@tantricsynergy.com.au
SUMMARY:ISTA Festival - Online
DESCRIPTION:JOIN US FOR THE THIRD ISTA ONLINE FESTIVAL THIS JANUARY 28 – 31!\nInclude yourself in this four day journey to expand your self-love\, power\, and ease in these chaotic times\, when the full range of emotions is stirring and bubbling…a time when we have much less to Do and more space to Be. In this unique time in our history and evolution\, the wisdom\, experience\, and tools to navigate the unknown that ISTA has to share with the world are more vital than ever. \n☘️ A 4 day 24/7 journey fitting to all time zones. \n☘️ Open for anyone and everyone craving depth\, transformation\, and a sense of ease in these chaotic times. \n☘️ Life-changing workshops\, talks\, ceremonies\, rituals\, and performances ranging from Shamanism to Tantra from the comfort of your home. \n☘️ 30 days of access to the recorded workshops. \n☘️ Join the “ISTA online festival community” Facebook group\, share and connect with the global tribe. \n☘️ Dozens of the best keynote teachers from the sexual shamanic field. \n🐉 In-depth workshops for festival participants that are ISTA Level 1 Graduates \n  \nStephanie will be presenting 2 workshops at the festival: \n~ Keys to Orgasmic Flow: “Take away the simple tools that allow more ease and orgasmic energy in your body\, creating self-awareness and deeper intimacy. These are the sacred practices that turn sex into ecstatic bliss”. \n~ Menopause\, Amrita and other Mystic Portals: “Having journeyed through the stages of maiden\, mother and now menopause I share with you about these transitions. These deep and powerful gifts of ‘woman’ have been denied for too long. It’s time to breathe life back into our waters\, to honour the wisdom of the years and bring forth the beauty that we carry in our bellies. These are treasures that our world has been sorely lacking.” \nMore info: https://istafestival.online \nBook here:\nBuy Tickets »\n\n\nWHAT IS AN ISTA FESTIVAL?\n[one-half] \nThis festival is all about you being YOU. It is a journey within. A journey home. What is in the way of loving yourself fully? Of allowing more love into your life? Of expressing your voice\, to be heard and your emotions fully felt? This festival is not about learning something new\, but remembering who you are and doing it together with others worldwide! Your community. Your tribe. \nThis gathering may be much more than just a festival. It may be a new beginning as you awaken to the possibility that we can live at our ease in this unique moment in time and beyond. \nYou do not need to be an ISTA graduate to partake in this festival experience. All are welcome- beginners and experienced alike! \nThis festival will not be a bypass to creating a distant dream-life\, but will explore how to stand in the fire of change\, lean into the discomfort of the unknown\, and powerfully meet\, be present to\, and move with the ecstatic current of life as our world is changing before our eyes. \nThis festival is vital\, powerful and relevant to now. \nBring your curiosity\, your desire\, your fear\, your vulnerability\, your courage\, your questions\, your doubts\, your hopes & your dreams. All of you is welcome here! \nYou choose your own adventure at the ISTA Festival. \n \nMay it take you somewhere more beautiful than you imagined possible!\nMore info: https://istafestival.online \n[/one-half] \n[one-half last] \nhttps://vimeo.com/497143238 \n[/one-half] \nBook here:\nBuy Tickets »
URL:https://tantricsynergy.com.au/event/ista-festival-online/
LOCATION:Online
CATEGORIES:Festival
ATTACH;FMTTYPE=image/jpeg:https://www.tantricsynergy.com.au/wp-content/uploads/2021/01/ISTAfestival2021-1.jpg
END:VEVENT
END:VCALENDAR