BEGIN:VCALENDAR
VERSION:2.0
PRODID:-//Tantric Synergy - ECPv6.15.20//NONSGML v1.0//EN
CALSCALE:GREGORIAN
METHOD:PUBLISH
X-ORIGINAL-URL:https://tantricsynergy.com.au
X-WR-CALDESC:Events for Tantric Synergy
REFRESH-INTERVAL;VALUE=DURATION:PT1H
X-Robots-Tag:noindex
X-PUBLISHED-TTL:PT1H
BEGIN:VTIMEZONE
TZID:Australia/Melbourne
BEGIN:STANDARD
TZOFFSETFROM:+1100
TZOFFSETTO:+1000
TZNAME:AEST
DTSTART:20200404T160000
END:STANDARD
BEGIN:DAYLIGHT
TZOFFSETFROM:+1000
TZOFFSETTO:+1100
TZNAME:AEDT
DTSTART:20201003T160000
END:DAYLIGHT
BEGIN:STANDARD
TZOFFSETFROM:+1100
TZOFFSETTO:+1000
TZNAME:AEST
DTSTART:20210403T160000
END:STANDARD
BEGIN:DAYLIGHT
TZOFFSETFROM:+1000
TZOFFSETTO:+1100
TZNAME:AEDT
DTSTART:20211002T160000
END:DAYLIGHT
BEGIN:STANDARD
TZOFFSETFROM:+1100
TZOFFSETTO:+1000
TZNAME:AEST
DTSTART:20220402T160000
END:STANDARD
BEGIN:DAYLIGHT
TZOFFSETFROM:+1000
TZOFFSETTO:+1100
TZNAME:AEDT
DTSTART:20221001T160000
END:DAYLIGHT
END:VTIMEZONE
BEGIN:VEVENT
DTSTART;TZID=Australia/Melbourne:20210723T190000
DTEND;TZID=Australia/Melbourne:20210723T210000
DTSTAMP:20260424T174230
CREATED:20210519T033505Z
LAST-MODIFIED:20210725T032451Z
UID:3208-1627066800-1627074000@tantricsynergy.com.au
SUMMARY:The Sacred Lover
DESCRIPTION:Relating secrets for the awakening\nWhat quality of relating do you desire?\nAre you calling for a connection that ignites your fire\, your heart\, your deeper essence? \nThis workshop offers new ways of being with your partner or future lovers\, and unlocks your own pleasure potential.\nHere are the keys to accessing your own sacred lover. The ones that activate the passion within\, with skill\, with authentic presence\, with honour and love. \nWe gather via Zoom:\nDate: July 23rd 2021\nTime: 7pm – 9pm\, Melbourne time AEST (UTC +10)\n* See other time zones below\nCost: From AUD$30\nTickets: https://www.trybooking.com/BRNGM\nThe Zoom meeting ID will be provided on your registration. You can book for one\, two\, or a few of you in your lounge room. \n“We deeply desire connection\, with ourselves\, with others\, and with authenticity and meaning. Our being knows that we are all connected\, and that we are creators\, with gifts to share. We are here with a call to express our true nature beyond the structures of the mainstream world. The old ways don’t cut it anymore. The ingrained patterns don’t serve. The habits that we would fall back on prior to this emergence no longer hold comfort. It’s time to find new ways of being\, new expressions of this precious life\, and to allow new pathways of possibility to open.” \nVery often people want to get out of their head and drop into their body\, allow it to open\, to invite more love and pleasure through their whole being. \nHere you’ll learn how to state your desires and boundaries in each interaction\, so that nobody is feeling pressured to perform. You’ll experience a different way of connecting\, without any agenda or results focus. This drops you into an honouring space\, as you give priority to the quality of your intimacy\, without the need for a particular outcome. It’s about resting open\, and reconnecting to the spark within that’s still alight and wants expression. You’ll discover new skills to take away for your own practice which break old habits\, and open a new path for connecting with genuine aliveness. \nThis workshop is for every body\, and you’re welcome to attend solo\, as a couple\, or as a group. \nThis workshop introduces:\n– Boundaries and agreements\n– The Wheel of Consent\n– Setting intention for connecting\n– The Safer sex talk\n– Elements of touch\n– Alternatives to neediness\, agenda and mechanical habit\n– Self pleasure practices\n– Going from “controller / victim” dynamic\, to “safety / surrender” resonance\n– And more… \nDate: July 23rd 2021\nTime: 7pm – 9pm\, Melbourne time AEST (UTC +10)\nOther time zones: \nCheck out your time zone here: https://www.worldtimebuddy.com/ \nYou’ll need to pre-book to attend.\n(Registrations close at 6pm AEST)\nCost: From AUD$30\nTickets: https://www.trybooking.com/BRNGM\nThe Zoom meeting ID will be provided on your registration. You can book for one\, two\, or as a group in your lounge room. \nTickets are non-refundable.\nPlease note that any recordings from the evening are not available for viewing or sharing.\nStephanie is a global facilitator at the forefront of the conscious sexuality movement. She initiates through Tantric and shamanic practices\, pattern reframing and the deep remembering of our innate knowing. Here is a unique opportunity to work with the wisdom and expertise of a leader in the field who has supported thousands of people to transform their lives. \n“Stephanie is all kinds of Wow!” SJ \n“I didn’t expect to gain so much from an online session. I could really feel the energy move\, and it was actually good to be in my own space\, where I’m comfortable. It felt intimate as well. Thank you for creating a connection that allowed me to find this part of myself again. It was do-able. I can open my world up from my lounge room. It felt good.” Nick \n“This is the second of your live events I’ve attended. I enjoyed both so much. Your workshops are a delight to watch; so uplifting. They are also very informative\, helpful\, insightful and enlightening.  They touch me deeply as well.  I appreciate the simplicity\, precision and clarity with which you share your wisdom.  Thank you so much for the work that you do which is so needed in the world today! Much love and deep gratitude.” Sarah \nBuy Tickets »
URL:https://tantricsynergy.com.au/event/the-sacred-lover/
LOCATION:Online
CATEGORIES:Workshop
ATTACH;FMTTYPE=image/jpeg:https://www.tantricsynergy.com.au/wp-content/uploads/2021/05/SacredLoverJuly2021.jpg
END:VEVENT
END:VCALENDAR