BEGIN:VCALENDAR
VERSION:2.0
PRODID:-//Tantric Synergy - ECPv6.15.20//NONSGML v1.0//EN
CALSCALE:GREGORIAN
METHOD:PUBLISH
X-ORIGINAL-URL:https://tantricsynergy.com.au
X-WR-CALDESC:Events for Tantric Synergy
REFRESH-INTERVAL;VALUE=DURATION:PT1H
X-Robots-Tag:noindex
X-PUBLISHED-TTL:PT1H
BEGIN:VTIMEZONE
TZID:Australia/Melbourne
BEGIN:STANDARD
TZOFFSETFROM:+1100
TZOFFSETTO:+1000
TZNAME:AEST
DTSTART:20210403T160000
END:STANDARD
BEGIN:DAYLIGHT
TZOFFSETFROM:+1000
TZOFFSETTO:+1100
TZNAME:AEDT
DTSTART:20211002T160000
END:DAYLIGHT
BEGIN:STANDARD
TZOFFSETFROM:+1100
TZOFFSETTO:+1000
TZNAME:AEST
DTSTART:20220402T160000
END:STANDARD
BEGIN:DAYLIGHT
TZOFFSETFROM:+1000
TZOFFSETTO:+1100
TZNAME:AEDT
DTSTART:20221001T160000
END:DAYLIGHT
BEGIN:STANDARD
TZOFFSETFROM:+1100
TZOFFSETTO:+1000
TZNAME:AEST
DTSTART:20230401T160000
END:STANDARD
BEGIN:DAYLIGHT
TZOFFSETFROM:+1000
TZOFFSETTO:+1100
TZNAME:AEDT
DTSTART:20230930T160000
END:DAYLIGHT
END:VTIMEZONE
BEGIN:VEVENT
DTSTART;VALUE=DATE:20221008
DTEND;VALUE=DATE:20221015
DTSTAMP:20260423T094727
CREATED:20220515T211058Z
LAST-MODIFIED:20221003T025808Z
UID:3347-1665187200-1665791999@tantricsynergy.com.au
SUMMARY:Body Whisperer Retreat - NSW ( Fully Booked )
DESCRIPTION:“This is an experience of expansion rather than disconnection\, of opening rather than shutting down\, of empowerment rather than fear and contraction.”\n\nThis 7 day residential training is held at the gorgeous Sine Cera Rainforest Retreat in the Northern Rivers. It introduces practices for releasing physical\, emotional and energetic restrictions in the body for high vibrational healing and conscious awakening.\nThroughout this program\, you’ll learn to shed the constriction of limiting stories\, to wake up the orgasmic current that fuels the belly and the heart\, to embody the unique soul blueprint that we chose for this extraordinary lifetime.\nWork side by side with Stephanie in a deep group immersion\, dropping layer by layer into the subtle nature of awakening your aliveness. Draw on shamanic processes to hold yourself and others through their wild and vulnerable expression of coming home to self.\nThe course is for those who’ve entered this dragon’s den for themselves already (preferably you’ve worked with Stephanie previously)\, and feel the call to receive the plentiful transmissions of her deeper work.\nThis changes everything. Whether this is solely for your own path or you support others in your own private practice\, this is a gift for yourself\, your relationships\, and for what you bring to the planet.\n.\nINCLUDED IN THE WEEK:\n– practical learning\n– hands-on experience\n– role – plays\n– guiding safe emotional expression\n– supporting healthy sexual embodiment\n– facilitating processes for releasing blocks and patterns\n– delving into shadow-work\n– learning the sacred arts through conscious touch practices\n– remembering themes of ancient mysteries\n– and how to incorporate all of these tools into session work to bring healing and a higher vibration to the planet\, one person at a time.\n–\n\n–\nPRACTICE SESSIONS:\nThis is the real stuff. The rich content is generously shared. This is a unique retreat that goes way beyond a “tantra workshop”.\nHeld by Stephanie’s clarity and integrity\, she gifts us with her invaluable wisdom and experience. The material is delivered in manageable bite-size pieces. Participants receive packed content\, rich transmissions based on decades of listening to the subtle\, expertise and passion for this deep and wondrous journey of sex\, body and soul.\nThe course is designed for seasoned travellers of this space\, although this is not a requirement. You’ll receive the gifts of our immersion together whatever your background or life path. You will acquire tools for your own emergence\, and you’ll also support others to activate and release their emotional body for their empowerment\, using a broad range of processes offered throughout the week.\nDuring the program\, you will practice tuning into your own body wisdom that not only informs your connection and work with others\, but also shows you how to meet them on a physical and energetic level\, from a space of heart-centred connection.\nThis is an intensive training\, where you will learn processes and techniques that shed old skin\, and awaken aliveness. We’ll be working with conscious touch\, energetic modalities\, psychodrama processes and guided journeys. This is about walking the path of way-shower\, waking up from a dormant world and coming home to all your senses. You’ll open your heart as witness as you claim back your pleasure and power. This journey is a calling. And it takes all of us to step forward to the call when the time is right. It has nothing to do with your sexual preference\, expression or gender identity.\nThis 7 day retreat is a unique experience\, with in-depth content based on Stephanie’s 35 years of transformational work\, bodywork mastery and on her dedicated contribution to the global movement in conscious sexuality.\n–\nOUTLINE:\n– Communication\, consent and boundaries\n– Working with intention\n– Cutting cords and attachments\n– Process work to release old patterns and emotional blocks\n– Practices for flowing orgasmic energy through the body\n– Re-sensitising the eros body\n– Mystic code activation\n– De-armouring points in the body\n– Weaving with the elders\n– Shamanic guidance for transformational emergence\n–\n\n\n  \nThe moment you commit to this program\, you begin. You have cast your intention and the universal law starts its natural course as your dream starts to manifest. Watch for the synchronicities\, take note of the signs – the riddles and the clues. You are a magic weaver\, in connection and aligned now with the more expansive fields of energy. Universal law creates a space for you as you step into the wheel of creative life.\n__________________________________________________________\nWHO IS IT FOR?\nPeople of any gender\, orientation and relationship status. Individuals or couples. New or experienced sexuality practitioners.\n.__________________________________________________________\nEVENT LOCATION:\nSine Cera Rainforest Retreat on the border of the Border Ranges National Park. Set on 200 acres of spectacular rainforest gullies\, pristine creeks and dramatic bushland ridges. Home to some of Australia’s most iconic flora and fauna\, including rare and endangered species. Stunning rainforest walking tracks and several waterholes for swimming on the property.\n40 minutes drive from Kyogle. 2 hours from Byron Bay & 2.5 hours from the Gold Coast.\n__________________________________________________________\nCOST:\nAll Inclusive Pricing:\n$1800 DORMITORY BED in shared dormitory with all inclusions.\n$1950 KING SINGLE BED in twin share room (per person) with all inclusions.\nInclusions: 7 Day Training. All bed linen. 3 delicious and decadent\, chef prepared vegetarian meals per day. Inclusive of all course materials & Body Whisperer Handbook.\n__________________________________________________________\nHOW DO I REGISTER?\n1) Fill Out the application form – Application Form – BW 7 Day\n2) Pay your $500 Deposit to the bank details below.\nDEPOSITS:\nSecure your place with a $500 non refundable deposit and then the balance of the full course fee at your convenience\, due latest on or before September 3rd\, 2022.\n__________________________________________________________\nREFUND POLICY:\nThe $500 deposit is strictly non refundable or transferable to another person. Balance of fees can be transferred to any future Body Whisperer Training or Tantric Synergy Training\, Event or Private Session facilitated by Stephanie Phillips.\nIf by chance this event is cancelled by us due to Covid NSW regulations\, you are assured that full refunds including your initial $500 deposit will be returned to you within 14 days of the event cancellation\, less a $50 administration fee and any bank fees incurred.\nAlternatively\, you may transfer your payment to a future Body Whisperer Training or Tantric Synergy Training\, Event or Private Session facilitated by Stephanie Phillips.\n__________________________________________________________\nBANK DETAILS:\nPlease make all payments to the following account:\nBank: Westpac\nAccount Name: Stephanie Phillips\nAccount No: 874694\nBSB: 733 039\nPlease note your full name on your deposits including which training you are booking into eg: John Smith BW3 (3 Day) or John Smith BW7 (7 Day) – thank you!\n__________________________________________________________\nABOUT STEPHANIE:\nStephanie has over 30 years working in the field. She is a speaker\, writer and international facilitator\, initiating groups with Tantric and shamanic practices\, pattern reframing and the deep remembering of our innate wisdom. Faculty at ISTA (International School of Temple Arts). She draws on her extensive background in Dance\, Psychotherapy\, Yoga\, Reiki and the Healing Arts.\n\n\n\n\n\n\n\n__________________________________________________________\n\nWHAT OTHER 7 DAY RETREAT PARTICIPANTS HAVE SAID:\n“Lifetimes of knowledge condensed into a week. Profound journeys balanced with plenty of rest allowing the body to remember & gently return home.\nPain\, grief\, anger is all transformed into spaciousness\, joy\, energy\, pleasure & flow. Deep gratitude to Stephanie for standing tall & steadfast in this truth\, bringing this transmission\, so that we can vibrate alive & present innocent & wise in the world.”\nBecky\, April 2022\n“The week was beautiful – I loved every day of it. From the gentle explorations of patterns & blocks\, the visceral\, felt understanding of why we hold onto them\, to the sublime ecstatic & erotic movements of energy which served to release them and take us deeper & deeper into a profound connection with our authentic selves. The whole experience was both masterful and sensitive.”\nPaul\, April 2022\n“Thank you so much\, I received so much more than I expected. The structure of the Body Whisperer Retreat was perfect for me. An awesome combination of body skills\, embodiment & heart sharing.\nI feel deeply enriched & have learnt many practices & tools to bring back to my work. The space was so well held & safe. I was able to open& show myself more & let go of some of the armour around my heart. This allowed my nervous system to unwind & reset.”\nTim\, April 2022\n“I feel so complete. Thank you for an incredible 7 days of deep journeying with all of the parts of me. An opportunity to tune in deeply with my blocks and my attachments to them – and then to release them. It’s been a potent journey with such delicious slow tenderness. Iv’e felt so very safe & completely held and the deep personal shifts have been profound.\nI came away with a clarity and ease in my body that’s completely new. There’s a feeling of breadth & spaciousness and a sense of being able to hold myself in a new way.\nIn coming as a couple\, we’ve journeyed in a richer way together. We’ve found ourselves more grounded as individuals & our relationship feels broader\, more generous and deeper. Just magic\, beautifully & masterfully held. Thank you.”\nHeidi\, April 2022\n“It’s been a week where a beautiful container was created to allow all participants to expand\, journey\, be challenged and be seen to move with & through these experiences by expanding eros.\nThe tools & skills presented were given in a way that gave time to integrate the experience of self. I felt deeply held & no pressure to do anything I didn’t want. I was supported to do as I needed\, taking care of my body & energy over the week.\nVenue is fantastic\, I love it here as the land is so special. Facilitator & assistants team all were amazing\, welcoming beings with love\, integrity\, wisdom & humbleness. So got what I came for & more. I will be back.”\nNiv\, April 2022
URL:https://tantricsynergy.com.au/event/body-whisperer-7-day-retreat-northern-nsw/
LOCATION:412-422 Main Creek Rd\, Cougal\, NSW\, Australia\, 412-422 Main Creek Rd\, Cougal\, NSW\, Australia
CATEGORIES:Retreat,Sessions and Workshops,Workshop
ATTACH;FMTTYPE=image/jpeg:https://www.tantricsynergy.com.au/wp-content/uploads/2022/08/7-day-BW-Oct-2022-Banner150kb.jpg
ORGANIZER;CN="Eve Glimma":MAILTO:eveglimma@gmail.com
END:VEVENT
END:VCALENDAR