BEGIN:VCALENDAR
VERSION:2.0
PRODID:-//Tantric Synergy - ECPv6.15.20//NONSGML v1.0//EN
CALSCALE:GREGORIAN
METHOD:PUBLISH
X-WR-CALNAME:Tantric Synergy
X-ORIGINAL-URL:https://tantricsynergy.com.au
X-WR-CALDESC:Events for Tantric Synergy
REFRESH-INTERVAL;VALUE=DURATION:PT1H
X-Robots-Tag:noindex
X-PUBLISHED-TTL:PT1H
BEGIN:VTIMEZONE
TZID:Australia/Melbourne
BEGIN:STANDARD
TZOFFSETFROM:+1100
TZOFFSETTO:+1000
TZNAME:AEST
DTSTART:20220402T160000
END:STANDARD
BEGIN:DAYLIGHT
TZOFFSETFROM:+1000
TZOFFSETTO:+1100
TZNAME:AEDT
DTSTART:20221001T160000
END:DAYLIGHT
BEGIN:STANDARD
TZOFFSETFROM:+1100
TZOFFSETTO:+1000
TZNAME:AEST
DTSTART:20230401T160000
END:STANDARD
BEGIN:DAYLIGHT
TZOFFSETFROM:+1000
TZOFFSETTO:+1100
TZNAME:AEDT
DTSTART:20230930T160000
END:DAYLIGHT
BEGIN:STANDARD
TZOFFSETFROM:+1100
TZOFFSETTO:+1000
TZNAME:AEST
DTSTART:20240406T160000
END:STANDARD
BEGIN:DAYLIGHT
TZOFFSETFROM:+1000
TZOFFSETTO:+1100
TZNAME:AEDT
DTSTART:20241005T160000
END:DAYLIGHT
BEGIN:STANDARD
TZOFFSETFROM:+1100
TZOFFSETTO:+1000
TZNAME:AEST
DTSTART:20250405T160000
END:STANDARD
BEGIN:DAYLIGHT
TZOFFSETFROM:+1000
TZOFFSETTO:+1100
TZNAME:AEDT
DTSTART:20251004T160000
END:DAYLIGHT
END:VTIMEZONE
BEGIN:VEVENT
DTSTART;VALUE=DATE:20230529
DTEND;VALUE=DATE:20241001
DTSTAMP:20260421T222801
CREATED:20171008T064330Z
LAST-MODIFIED:20240117T212417Z
UID:2118-1685318400-1727740799@tantricsynergy.com.au
SUMMARY:Sessions and Workshops - Byron Bay
DESCRIPTION:For people who know there is something more\, who want to feel more alive in their bodies\, have more pleasure\, and transform their relationships – discover the art of Tantra – Byron Bay and across Australia. Tantric Synergy offers private sessions and workshops to teach these simple skills – all attainable for today’s curious life-lovers. \n\nhttps://tantricsynergy.com.au/wp-content/uploads/2019/12/Steph-Phillips-Tantric-Synegy-Promo-2.mp4 \n  \n“Taking the time to slow down and relax\, tuning in to the subtleties of pleasure and sweet sensation. Connecting becomes a nourishing elixir\, an opportunity to delight\, to drink deeply\, to honour\, to rest open.” \nTantra in Byron Bay\nIf you’re looking to improve the quality of your relating\, reach the heart of your partner or future lovers\, or discover your own orgasmic potential\, then Tantric Synergy is for you. \nTantric Synergy is not about performance or friction release\, or perpetuate the “porn sex” mentality. You’ve probably already seen the sites that call themselves “Tantra” that provide those services. \nHere however\, is where you master your sexual power\, find your true potency\, and discover how to break open in bliss with your lover – taking sex to another level. \nThis is authentic Tantra\, where conscious sexuality is developed\, where old habits can be shed\, and your intention to own and delight in your intimate life is honoured. Here you receive the benefit of experience\, skill\, empathy and deep insight\, and can trust in the integrity and clarity of this guidance and these teachings. \nMany people come to Tantric Synergy to get the spark back in their relationship. Men often want to control ejaculation\, or become a better lover. Many women are ready to discover their true orgasmic potential or just want to get out of their head and back into their body. As these issues are addressed with some simple practices\, people discover that their whole world opens up\, and they experience a more conscious and expanded way of being – and as reported by many\, they become more open\, present and switched-on in their everyday lives. The first thing that people learn is to connect back with themselves. They open to that incredible life force energy that resides in all of us\, and learn to surrender to its powerful creativity\, love and bliss. \n			\n			\n				\n				\n				\n				\n			\n				\n				\n				\n				\n				\n				\n				\n				\n				\n				\n				 \nTantra in Byron Bay\nPrivate sessions for Men or WomenLearn the sacred practices to turn sex into a precious gift – an experience which is honouring rather than mechanical. Men learn how to direct their sexual energy instead of being at its mercy. Women discover how to allow more intimacy and pleasure through the body.Find out more → \nMAKE AN ENQUIRY \n			\n			\n				\n				\n				\n				\n				\n				\n				\n				\n				\n				 \nPrivate Tantra Sessions\nCouplesThe Tantra coaching sessions provide tools\, discussion and sacred practices\, allowing you to open to a new level of trust and deeper intimacy with your partner. The first session teaches you the basic skills you need to change your old habits\, by slowing down the breath and connecting with awareness to new sensations in the body.Find out more → \nMAKE AN ENQUIRY \n			\n			\n				\n				\n				\n				\n				\n				\n				\n				\n				\n				 \nTantra Workshops\nTantric Synergy runs regular information evenings for those curious about the idea of Tantra\, and also holds workshops\, courses and personal sessions for people wanting to know deep intimacy\, to heal\, and to discover themselves in new and profound ways.Find out more → \n			\n			\n				\n				\n				\n				\n			\n				\n				\n				\n				\n				\n				\n				\n				\n				\n				\n				CALENDAR OF EVENTS \nTantra means “to expand\, to be free\, to be liberated…”\nThe true journey of Tantra is the study of life and illumination. At our essence is our life force energy\, which can be moved through us\, providing us with our creativity\, our juice\, our intellect\, drive and passion. This is the battery pack that charges our being\, and it flows through us as sexual energy. In our western world we have been conditioned to squash our natural energy flow\, and many people live their lives a little switched off\, with dulled senses\, as they hold themselves back from feeling fully\, to go through their daily tasks and duties. \n \nSessions for Individuals\nSessions are conducted in a comfortable\, private setting created just for you\, so it’s easy for you to relax and receive new pathways of connection. \n\nDeepen the intimacy in your relating\nLearn the ancient skills for more passionate sexual connection\nDevelop simple practices for open communication\nLearn lovemaking secrets beyond the routine\nGive up performance pressure\nReclaim arousal and pleasure without external stimulus\, such as porn or fantasy\nLearn the art of tantric massage\nOpen your inner essence\nFind mastery through presence and awareness\n\n  \nSessions for Couples\nCouples Discovering the Tantric journey move beyond the programmed ideas about relating and sexuality\, and open to a new relationship with the self and with each other. By the transference of this life force energy\, they discover a deeper awareness and a more conscious way of connecting. \nThe sessions\, as you progress\, are designed to cultivate your full orgasmic awakening through bodywork and energetic sexual healing processes. As you learn to harness this fundamental energy force\, you will express a truly heartfelt surrendered connection with your partner\, allowing the body to ride ecstatic waves\, and freeing the spirit. This is our natural state of being. \n*Private Sessions via Zoom are also available and Online Group Workshops provide access to new practices with others who are also curious. \nMore info here \n“Profound therapies for couples and singles\, guided by a sensitive and professional practitioner. We learned practical techniques to take away\, and we continue to deepen our emotional and sexual connection. Thank you!” Tom and Libby \nStephanie PhillipsStephanie draws on intuitive pathways to open the body to its natural wisdom\, with tools for re-membering authentic power and energetic alignment. She works with modalities of self awareness including Mindfulness\, Gestalt therapy\, movement meditation\, dance expression\, humanistic psychology\, NLP\, Tantra\, shamanic practices\, conscious sexuality and the healing arts. \nhttps://tantricsynergy.com.au/wp-content/uploads/2019/09/SacredMysteriesByron2019Rob-.mp4 \nTantra Workshops\nWorkshops with Tantric Synergy can be soul-deep immersions\, to awaken the passion of the belly\, sweet heart-power and full life expression….More about Events Here \n\nTANTRIC SYNERGY ON THE RADIO \nSo what happens in a private Tantra session? Listen to an excerpt from “Ron’s” first booking with Stephanie\, to find out how you’ll be supported in your private session. \n\nhttps://tantricsynergy.com.au/wp-content/uploads/2019/05/David-Final.mp3 \n  \n  \nWhat others Say: \n“This changes everything! I am so grateful to you for offering what you do in the way you do. It’s such a gift– and I know that so many like me would benefit from your work. I really appreciate your strength\, your expression of power\, your irreverence and humour\, and your caring. What a great role model!” Erica \n“That was unbelievable for me! Coming back much healthier and more open. My body remembering what to do. It showed me that I am so much more. It took me by surprise as I thought it was impossible for me. Feeling so much more alive in my body\, and feeling the energy flowing.” Ben \n“Just wanted to let you know from our last session I feel such a change has happened within me. I feel so strong\, but also gentle with a sense of peace at the same time\, and I am relating to my husband differently\, with more understanding and pure interest in him. Just wanted to say thanks for all that you do.” Simone \n“Thank you for our recent session.  It was a wonderful and beautiful experience in itself but it has also helped us immeasurably to untangle some of the muddle we had got ourselves into. Thanks again for the tune up\, and for the celebration of intimacy that your sessions create. Warm grateful thoughts.” Mick and Kate \n“Just some feed back to you that may enlighten more benefits of your work. Prostate cancer left me totally impotent. Injections and pills\, nothing worked. An implant also failed and was almost catastrophic in its implications. Thinking I was past it and people suggesting in their good will that “who needs it when you are older” are way off the mark. Haha! My Tantra work with you gave me back mind-blowing\, and I mean mind-blowing mental and physical sensations. I feel like a sexual / sensual being again. I have benefited to where I will say I am better than I have ever been….Fantastic!  I let my Surgeon\, G.P. and Psych know about my experiences. They are open and interested in what I have explained. It’s now almost 3 months since my classes with you. Forever young in Heart! Full power to you Tantric Synergy.” Bernhard \n 
URL:https://tantricsynergy.com.au/event/tantra-byron-bay/
LOCATION:Victoria
CATEGORIES:Sessions and Workshops
ATTACH;FMTTYPE=image/jpeg:https://www.tantricsynergy.com.au/wp-content/uploads/2022/03/TantricSynergyStephFacilitator-2022.jpg
END:VEVENT
BEGIN:VEVENT
DTSTART;TZID=Australia/Melbourne:20240203T100000
DTEND;TZID=Australia/Melbourne:20240203T220000
DTSTAMP:20260421T222801
CREATED:20231207T040041Z
LAST-MODIFIED:20240117T210238Z
UID:4016-1706954400-1706997600@tantricsynergy.com.au
SUMMARY:One Day Intro to Tantra + Temple Night - Fully booked
DESCRIPTION:For those curious about Tantra\, and for people wanting to awaken more consciousness in their sexual lives.\n*  A full day of practices to connect authentic expression with body and heart\, followed by a beautifully guided evening temple \n“Unlock your capacity for deeper connection with your sexuality\, whether or not you are partnered. Draw on Tantric and conscious relating practices to experience more pleasure and intimacy.” \nDate: February 3rd 2024\nSaturday: 10am – 5:30pm Temple: 7pm – 10pm\n* You can also book for just the Day Workshop: 10am – 5:30pm\nTickets:\nDay workshop + Temple: $250 ( First 5 tickets $220 )\nBook for 2: $450 ( 3 available tickets at $400 )\nDay workshop only: $200 (First 5 tickets $180)\nBook for 2: $360 ( 3 available tickets $320 )\nBook here: https://www.trybooking.com/CNUFA\nVenue: Second Storey\, Collingwood\n222 Johnston St\, Collingwood 3066 \n*This event books out\, so please don’t delay reserving your spot. \nThe workshop is open to anyone who feels called to learn about Tantra and conscious sexuality. There will also be some there who are repeating because it has been so valuable for them. This is a whole new way of relating\, which sheds the layers of old habits and conditioning. \nIt’s the first step in letting go of any pressure\, obligation or goal-oriented striving around sex:\n– to embrace your fullness\, connecting sexual energy to the heart and through the whole body\n– to get out of your head and drop into your body\, allow it to open\, and invite more love and pleasure through your whole being \nPractices include: \n– Creating boundaries and agreements\n– Consent practices\n– Simple techniques to open the energy pathways\, and connect orgasmically to the heart\, and through the whole body.\n– Expressing your authentic voice\n– Learning to give and receive a sensual massage ( the level of touch will be governed by what is comfortable for you)\n– Communication for healthy relating\n– Opening pleasure pathways through the body\n– Guided sensory banquet \nWe work with your sexual nature and its expression through the whole body\, rather than just the goal-centred habits. Your awakened self is sexual\, but in a new way – it’s more connected\, deeper and authentic. There’s more pleasure here\, with more subtle nuance. \nThis is a reset to connect authentically\, and find an attunement that transmutes beyond the physical. \nThere may be conscious touch\, in a way that is connected and present. You’ll be learning practices to slow down without an agenda\, and bring awareness to the subtle\, explore the spectrum of depth to light play\, and drop any habitual going-for-a-goal. \nYou will leave the workshop with practices to take home to explore privately\, and with a whole new path of intimacy to discover. \n– Opening pleasure pathways through the body\n– Transmitting this awakened current through your heart connection\n– Authentic expression of orgasmic and emotional embodiment with trust and safety\n– Exercises to let go of old patterns around pressure\, obligation or goal-oriented sex. \nThis immersion is crafted from Stephanie’s years of shamanic work with groups\, and transpersonal / tantric teachings around the world.\nWhat is offered at Intro to Tantra + Temple comes from this place\, and will bring a unique\, rich and expertly held experience. \nYou are supported in finding what is true for you\, so that you can be in your sovereignty\, without feeling pressured. At the same time\, you’ll awaken the parts of you that yearn to be seen and expressed. This work can be deeply healing\, and can change other aspects of your life\, as you release blocks and old conditioning which hold you back from expressing your full authentic self. \nThere is no need to undress ( or to stay clothed)\, and everyone is different. The amount of disrobing is completely your choice. \nThe content is paced for the group\, and each person is encouraged to stay with what feels right for them. There is no benchmark of ‘liberation’ to achieve for anybody. People’s personal choices are always respected. \nThis is about learning to stay present in the body\, so that we can connect more authentically. There will be conscious touch practices\, remaining present to your own experiences while connecting with another. \nYou will receive a whole new perspective about expressing your sexuality\, about your ability to give and receive\, and to feel more pleasure and intimacy. \nThe take-home booklets\, “Sex With Your Light On” and “The Sacred Lover” will be available for purchase over the weekend\, to support your new awareness at home. ($18.00 each). \nThere are cafes nearby for lunch\, or you can bring your own. There is a fridge and microwave available for preparation. \nSingles\, couples and all genders welcome. \nCancellation Policy: Booking for all events is non-refundable.\nWith 48 hours notice prior to commencement\, a credit may be given for the next event. \nFor full details and to book: https://www.trybooking.com/CNUFA \nWHAT OTHERS SAY: \n“Wow!… Words do not do this justice. What a cracker. I feel like I have been reborn\, a new man; a sacred warrior. I danced\, I cried\, I orgasmed out of my head! I went solo and left feeling so connected to all the wonderful people that went\, who I now consider friends\, and more connected to my body and everything really. My heart is open and the emotions are overflowing. I’m excited where the magic will take me next. Ah ho! Bring it on. Thank-you thank-you thank-you Stephanie and all. Big love.” Simon Cooks \n“I know with all my heart and soul that Stephanie Phillips ‘s facilitation is THE BEST and WORLD CLASS. She is fully embodied in her teachings. You can feel that moment she walks in the room. Her integrity with her work\, her ability to read the room and give us exactly what we need\, her knowledge and embodied wisdom  in Tantra & sacred sexuality is just incredible. She is truly a rare teacher to find. If you’re in this journey to get to know yourself intimately\, go deeper\, I highly recommend her events.” Selenge \n“A quick note to say thanks for holding the space for us to delve into this next level of our personal journey of discovery. It has touched me very deeply and is very central to my being\, so thanks for meeting us at that place and allowing us to experience the view so safely. I also appreciate your vulnerability and trust in working in this way\, and I acknowledge your generosity\, presence and commitment to helping me experience my new expression.” Ben \n“I was full of life and joy yesterday. Danced all day and night and had the best day I have had for a long time. I solidified some friendships and made some new ones. All in all it was fantastic. I am so grateful to you.” Marie-Claire \n“Stephanie is a gifted\, caring and embodied healer. She weaves together a ministry of expertise in somatics and shamanic awareness. For me\, her work opened up my emotional range\, brought me back in touch with my body and liberated suppressed aliveness. These experiences with Stephanie have set me on a path to health\, self-care and inner wellbeing. Thank you for guiding me back home to my body’s inner wisdom through your unique practices and guidance.” Steve \n“Wow\, how fucking amazingly alive do I feel today! Talk about feeling like I’ve come home to who I really am from the bottom of my everything… thank you !!!!! You have awakened my soul into what it always should have been!” Sarah
URL:https://tantricsynergy.com.au/event/one-day-intro-to-tantra-temple-night-melbourne/
LOCATION:Second Storey Studios\, 222 Johnston St\, Collingwood\, Victoria\, 3066\, Australia
CATEGORIES:Workshop
ATTACH;FMTTYPE=image/png:https://www.tantricsynergy.com.au/wp-content/uploads/2023/12/OneDayTantraTemple.png
END:VEVENT
BEGIN:VEVENT
DTSTART;VALUE=DATE:20240217
DTEND;VALUE=DATE:20240219
DTSTAMP:20260421T222801
CREATED:20231202T225345Z
LAST-MODIFIED:20231202T225345Z
UID:4012-1708128000-1708300799@tantricsynergy.com.au
SUMMARY:Ways to the Oneness - Melbourne
DESCRIPTION:This deep weekend workshop is designed to assist you in shedding blocks and outmoded patterns\, and deepening your existing awareness. \nLed by internationally renowned facilitators Stephanie Phillips and Jason Bart\, Ways to The Oneness is a rich immersion supporting you to transform your reality into potency\, freedom and limitless possibilities. \nHow can we expand our capacity to fully own all that we are\, and those parts that we have denied? How do we bring these parts home within us\, and integrate all aspects with both a fierce love\, and a gentle holding? \nWhen you own all parts of self\, the fear collapses its hold on you. No more struggle with the dynamics that felt so exhausting. With courage\, and heart\, all of you can come to rest in alignment. \nAll the Info: \nDates: February 17th – 18th 2024\nVenue: Vine and Branches Chapel – Lower Plenty\nTimes: Saturday and Sunday\, 10am – 6pm\nCost: $450 first 10 tickets / then $550\nTickets: https://events.humanitix.com/ways-to-the-oneness-feb-24\nThis is a non-residential retreat. You’re welcome to return home on the Saturday night\, or seek local accommodation. Lunch will be provided on both days. \nSaturday: we will explore the polarities within – the masculine and feminine aspect\, the poles of spirituality and matter\, the inner realms and outer reality\, and density and spaciousness. The junction point for these polarities is through our magnificent\, orgasmic heart. \nSunday: we deep dive beyond these polarities into the non-dual\, into the oneness. We will empty everything we thought we needed to be\, to follow the call home to the stillness of source within. And from this vortex of primordial dark comes an impulse\, a seed\, a current that upwells. From this place\, the ecstatic current births from the mystery. Nothing to do\, no pushing\, or making it happen. No techniques. Nothing but the pure frequency of love upwelling as life’s expression. Life is moving us. \n \nThis immersion is suited for people of any gender\, orientation and relationship status. Singles as well as couples find the experience life changing and enriching\, taking their capacity for relating beyond where they’ve gone before. Whether you enrol to deepen your relating or for personal transformation\, the experience highlights the ultimate wisdom of the soul-being. This is about coming home to the inner current of life that wants to move you. \nThe immersion is crafted from Stephanie and Jason’s years of shamanic\, transpersonal and tantric group work around the world. All of you is welcome in this two-day experience\, which is a combination of learning\, experiential practices\, and guided inner journeys. You’ll be guided through exercises that are simple yet profound\, in both group processes and solo practices. There’ll also be time for integration\, reflections and sharing circles. \nThroughout the event you are supported in finding what is authentic for you\, as you awaken the parts of you that yearn to be seen and expressed. \nThis portal can be deeply healing\, and can change other aspects of your life\, as you release blocks and old conditioning which hold you back from expressing your full authentic self. \nPrevious experience in working with emotional and energetic intensity is helpful\, but no particular prerequisites are needed. During the weekend you will be encouraged to self-regulate and stay sovereign\, and you are fully at choice at all times. The content is paced for the group\, but everyone’s truth is different and is honoured within the container. Your needs and boundaries are respected at all times. \nJoin us as we drop the stories\, and reset our reality for more love\, power and freedom. \nTickets: https://events.humanitix.com/ways-to-the-oneness-feb-24 \nWhat others say: \n“Incredibly powerful ….I truly have shifted so much in my body\, I feel more connected to myself\, the earth\, cosmos\, my purpose…my body is filled with love!!!!! This has been like fertiliser for my soul!” Dan \n“This retreat changed my life. I know with all my heart and soul that Stephanie Phillips ‘s facilitation is THE BEST and WORLD CLASS. She is fully embodied in her teachings. You can feel that moment she walks in the room. Her integrity with her work\, her ability to read the room give us exactly what we need\, her knowledge and embodied wisdom Tantra & sacred sexuality is just incredible. She is truly a rare teacher to find. If you’re in this journey to get to know yourself intimately\, go deeper\, I highly recommend her retreats. You will be whole NEW person. It is an investment worthwhile!” Selenge \n“My mind and my body have been re united… and what does that feel like? It feels like laying naked on the warm earth with the sun kissing my skin. It feels like standing on a bare hill watching a storm approach\, with the wind tearing at my flesh\, exposed and vulnerable to its full fury. It feels like dancing in a circle of fire to the vibration of a hundred beating drums. It feels like finding the safest most beautiful refuge\, a sacred place that I know I belong and then realising I never have to leave. This is a precious gift\, and I will be forever grateful to you for showing that to me.” Danielle
URL:https://tantricsynergy.com.au/event/ways-to-the-oneness-melbourne/
LOCATION:Lower Plenty\, Victoria\, 3093\, Australia
CATEGORIES:Workshop
ATTACH;FMTTYPE=image/png:https://www.tantricsynergy.com.au/wp-content/uploads/2023/12/Copy-of-t-a-n-t-r-i-c-s-y-n-e-r-g-y-32.png
END:VEVENT
END:VCALENDAR