BEGIN:VCALENDAR
VERSION:2.0
PRODID:-//Tantric Synergy - ECPv6.15.20//NONSGML v1.0//EN
CALSCALE:GREGORIAN
METHOD:PUBLISH
X-ORIGINAL-URL:https://tantricsynergy.com.au
X-WR-CALDESC:Events for Tantric Synergy
REFRESH-INTERVAL;VALUE=DURATION:PT1H
X-Robots-Tag:noindex
X-PUBLISHED-TTL:PT1H
BEGIN:VTIMEZONE
TZID:Australia/Melbourne
BEGIN:STANDARD
TZOFFSETFROM:+1100
TZOFFSETTO:+1000
TZNAME:AEST
DTSTART:20220402T160000
END:STANDARD
BEGIN:DAYLIGHT
TZOFFSETFROM:+1000
TZOFFSETTO:+1100
TZNAME:AEDT
DTSTART:20221001T160000
END:DAYLIGHT
BEGIN:STANDARD
TZOFFSETFROM:+1100
TZOFFSETTO:+1000
TZNAME:AEST
DTSTART:20230401T160000
END:STANDARD
BEGIN:DAYLIGHT
TZOFFSETFROM:+1000
TZOFFSETTO:+1100
TZNAME:AEDT
DTSTART:20230930T160000
END:DAYLIGHT
BEGIN:STANDARD
TZOFFSETFROM:+1100
TZOFFSETTO:+1000
TZNAME:AEST
DTSTART:20240406T160000
END:STANDARD
BEGIN:DAYLIGHT
TZOFFSETFROM:+1000
TZOFFSETTO:+1100
TZNAME:AEDT
DTSTART:20241005T160000
END:DAYLIGHT
END:VTIMEZONE
BEGIN:VEVENT
DTSTART;VALUE=DATE:20230928
DTEND;VALUE=DATE:20231003
DTSTAMP:20260424T064005
CREATED:20230822T051335Z
LAST-MODIFIED:20230822T051335Z
UID:3934-1695859200-1696291199@tantricsynergy.com.au
SUMMARY:Taste of Love Tantra Festival - Nth NSW
DESCRIPTION:This event is designed to facilitate an exploration of Intimacy in the realms of Self\, Others and the Divine…through the portals of Sexuality\, Relating and Consciousness.\n\n\n\nThe festival offers workshops\, lectures\, and experiential sessions led by renowned experts in the field of Sex Love & Consciousness – World experts who create a safe space for you to grow.\n\n\nDiscover the transformative power of Tantra and learn tools to deepen your relationships and cultivate more pleasure in your life.\nDon’t miss out on this incredible opportunity!\n\n–\nStephanie will be presenting 2 workshops:\n–\n\n\n\n–\nComing To Your Senses\nAn erotic and sensual journey to charge the orgasmic current through the heart. This is an experience of expansion rather than disconnection\, of opening rather than shutting down\, of empowerment rather than fear and contraction.\nDiscover the secrets for awakening the body whilst being present with yourself. Then connecting – no agenda\, feeling safe\, melting open\, tuning into subtle sweetness\, allowing the breath to deepen\, and surrender to the moment. This is precious. This is honouring.  \nFor Love of the Dark Heart\n*Finding your way beyond stories and personal dramas to the place between spirit and matter\, where vertical meets horizontal and the heart opens as a portal to love\n*Radiating the dark through matter\, through your body as an ecstatic current of aliveness.\n*Dropping into the frequency of no-polarity love\n*Emanating your inner beloved as the outer expression of life and relating\n*Opening through the layers of the heart to activate this pathway through the primordial dark of the heart\nStephanie will provide a framework for this quest\, some embodied practice as a group\, and then we drop into a guided inner journey\, supported be a mystical playlist. \n\n\nDates: 28 Sep – Oct 2\nLocation: Tyalgum\, Nth NSW\nLast tickets selling now: https://tasteoflove.com.au/festival
URL:https://tantricsynergy.com.au/event/taste-of-love-tantra-festival-nth-nsw/
LOCATION:Tyalgum\, NSW\, 2484\, Australia
CATEGORIES:Festival
ATTACH;FMTTYPE=image/jpeg:https://www.tantricsynergy.com.au/wp-content/uploads/2023/08/TOL2019.jpg
END:VEVENT
END:VCALENDAR