BEGIN:VCALENDAR
VERSION:2.0
PRODID:-//Tantric Synergy - ECPv6.15.20//NONSGML v1.0//EN
CALSCALE:GREGORIAN
METHOD:PUBLISH
X-WR-CALNAME:Tantric Synergy
X-ORIGINAL-URL:https://tantricsynergy.com.au
X-WR-CALDESC:Events for Tantric Synergy
REFRESH-INTERVAL;VALUE=DURATION:PT1H
X-Robots-Tag:noindex
X-PUBLISHED-TTL:PT1H
BEGIN:VTIMEZONE
TZID:Australia/Melbourne
BEGIN:STANDARD
TZOFFSETFROM:+1100
TZOFFSETTO:+1000
TZNAME:AEST
DTSTART:20230401T160000
END:STANDARD
BEGIN:DAYLIGHT
TZOFFSETFROM:+1000
TZOFFSETTO:+1100
TZNAME:AEDT
DTSTART:20230930T160000
END:DAYLIGHT
BEGIN:STANDARD
TZOFFSETFROM:+1100
TZOFFSETTO:+1000
TZNAME:AEST
DTSTART:20240406T160000
END:STANDARD
BEGIN:DAYLIGHT
TZOFFSETFROM:+1000
TZOFFSETTO:+1100
TZNAME:AEDT
DTSTART:20241005T160000
END:DAYLIGHT
BEGIN:STANDARD
TZOFFSETFROM:+1100
TZOFFSETTO:+1000
TZNAME:AEST
DTSTART:20250405T160000
END:STANDARD
BEGIN:DAYLIGHT
TZOFFSETFROM:+1000
TZOFFSETTO:+1100
TZNAME:AEDT
DTSTART:20251004T160000
END:DAYLIGHT
END:VTIMEZONE
BEGIN:VEVENT
DTSTART;VALUE=DATE:20240429
DTEND;VALUE=DATE:20240507
DTSTAMP:20260423T143902
CREATED:20230816T094830Z
LAST-MODIFIED:20230816T094830Z
UID:3927-1714348800-1715039999@tantricsynergy.com.au
SUMMARY:ISTA 50+ in Aspen\, Luxury Edition
DESCRIPTION:This training is specifically for those who’ve been around the sun 50+ times! \nWhat does the SSSEx Intensive Involve? \nThis retreat focuses on clearing the physical and emotional baggage of shame\, guilt and fear related to sexuality\, power and authenticity. \nOur curriculum utilizes multiple pathways of transformation originating from the ancient temple arts including Tantra\, Taoist and Shamanic traditions combined with modern day practices like NLP\, bioenergetics\, guided visualization\, emotional release\, Kundalini activation\, energy tracking\, conscious touch and consent skills. The list above are just a few of the practices we use to dive deep into the inner realms. \nAbout your facilitation team: \nThree skilled Temple Arts Faculty\, all international teachers in their own right\, will share\, inspire\, guide and support you to bring light to the shadows where your power awaits to be reclaimed. \nYou will receive information\, guidance and lots of experiential practice around self-love\, boundaries and consent\, emotional release\, voice dialogue\, neurological reprogramming\, working with shamanic energy\, owning one’s desires and the ability to manifest\, conscious communication\, ancient temple arts rituals and powerful sexual clearing and activation processes. \nWho attends ISTA Level 1? \nPeople aged 18 to 80 have participated in Level 1 trainings. They come from many different backgrounds\, professions\, religions\, spiritual beliefs\, races and nationalities. \nSome people take this training for their own personal evolution\, to gain a deeper self-connection and to enrich their relationships and empower their lives. Others are interested in exploring how it will add to their own professional life\, whatever that may be\, and some are interested in the professions of Sacred Sexual Practitioner or Sexuality Educator. \nAttendees include those from the various spiritual paths and the sexual paths of celibacy\, monogamy\, and polyamory. Couples\, individuals and relationship groups of any formation are welcome\, as are individuals of any sexual orientation and gender identity. The greater mix of diversity and prior experiences the richer the training! \nWhat you can expect to receive in Level 1: \n• The education around sex and relationships you would like to have received early on in your life.\n• Clear frameworks around communication\, boundaries\, and empowered relating.\n• Tools to reclaim power\, self-sovereignty and respect.\n• Emotional detoxing and masterful processing of feelings like rejection\, abandonment\, fear\, desire\, guilt\, shame.\n• Experience sexuality as a path of spiritual growth and healing: integration of spirituality and sexuality.\n• Learn to be at home in your own skin.\n• Sexual empowerment.\n• Move beyond social conditioning and expectations.\n• Gain precise self-awareness around unconscious shadows and tools to transform. \nThe entire training is designed to support all individuals to find\, feel\, claim\, and express their highest Life/Self expression. \nWhat do I need to know? \nThis is an individual process that happens in a group environment and a level of ability to be self responsible is needed to navigate the spiritual sexual shamanic space.\nNo prior knowledge of shamanism or sacred sexuality is necessary to attend. Those with previous experience are warmly welcomed\, as they add to the power of the field.\nISTA is a mystery school and approaches trauma from the shamanic perspective of connecting with the body and soul.\n*We strongly recommend that if there is known deep seated trauma\, individuals seek one on one sessions and get the ok from their therapist before entering the group process. \nWhat will I have to do? \nNudity and intimate touch are optional parts of this training. The cornerstone of this work is about consent\, developing healthy boundaries and communication. You are always at choice (free to choose) and the facilitators will help you navigate what is authentic for you. If it is your truth\, it is possible to complete the entire training experience without touching another person or taking your clothes off. \nAbout the venue: \nWe are thrilled to be offering this training in the beautiful Colorado Rocky Mountains\, just an hour from Aspen.\nThis forested haven is set on 32 private acres of wild meadows\, forest\, creeks\, waterfalls and ponds\, with trails leading right into the White River National Forest.\nIn addition to the beautiful mountain valley landscape of wilderness and wildlife\, this historical venue includes a Hot Tub\, Cedar Sauna & Cold Plunge.\nUpon registration you will be given further details about the venue. \nPricing is based on accommodation as follows: \nShared triple room: $2\,900\nShared double room: $3100\nPrivate room\, shared bath: $3\,350\nPrivate room\, private bath: $3\,500\nThere are limited spaces available for Repeat Participants at a $500 discount.\nCouples registering together reserving a private room and sharing a bed receive $500 off ($250/person.) \nPracticalities:  \nYou will be able to check-in after 1pm on the day the training starts.  The program will start at 4pm on that day and will finish at 2pm on the last day (after lunch). Please do not plan to arrive late or leave before the end of the event. \nAbout scholarships: \nISTA Scholarships are available as additional support if in need of financial assistance.  Applications must be submitted at least 4 weeks prior to the training start date. \nOrganizer:\nUSHA ROSE\nusha@usharose.com
URL:https://tantricsynergy.com.au/event/ista-level-1-50-plus-in-aspen-luxury-edition/
LOCATION:Aspen Colorado\, CO\, United States
CATEGORIES:Course
ATTACH;FMTTYPE=image/jpeg:https://www.tantricsynergy.com.au/wp-content/uploads/2023/08/ISTA-50-2024.jpg
END:VEVENT
END:VCALENDAR